BEGIN:VCALENDAR
PRODID:NingEventWidget-v1
VERSION:2.0
METHOD:PUBLISH
BEGIN:VTIMEZONE
TZID:Europe/Athens
X-LIC-LOCATION:Europe/Athens
BEGIN:DAYLIGHT
TZOFFSETFROM:+0200
TZOFFSETTO:+0300
TZNAME:EEST
DTSTART:19700329T030000
RRULE:FREQ=YEARLY;BYMONTH=3;BYDAY=-1SU
END:DAYLIGHT
BEGIN:STANDARD
TZOFFSETFROM:+0300
TZOFFSETTO:+0200
TZNAME:EET
DTSTART:19701025T040000
RRULE:FREQ=YEARLY;BYMONTH=10;BYDAY=-1SU
END:STANDARD
END:VTIMEZONE
BEGIN:VEVENT
UID:1982923:Event:246528
DTSTAMP:20260422T171934Z
SUMMARY:Daddy's Work Blues Band at Oreino Festival (γη και ελε
 υθερία)
DESCRIPTION:\nΦεστιβάλ Γη και Ελευθερία / Land a
 nd Freedom Festival  ΓΗ κι ΕΛΕΥΘΕΡΙΑ. Γιατί ... Δε
 ν μπορούμε να σιωπήσουμε! Γιατί η Αλλη
 εγγύη και η Συμμετοχή είναι η Λύση όχι
  το μέσο.\n Μια μεγάλη διοργάνωση, που έ
 ει στην καρδιά της τη Γη, τη Γνώση, τις 
 Ιδέες, τον Πολιτισμό και την Ελευθερία
  ρίχνει γερές ρίζες στα βουνά της νοτι
 ανατολικής Πελοποννήσου και συνεχίζε
 ται και φέτος το καλοκαίρι   Η κορύφωσ
  του θα είναι το τριήμερο 29-30-31 Ιουλίου
 . Land and Freedom Festival  A 3 day festival of music, culture, and d
 ebate, set in Vassaras ´The Gateway to the Mountains of Parnonas´. 2
 9-30-31 of July. Only 20mins from Sparta, Lakonia, Greece.\nΣάββα
 το 30 Ιουλίου 2016 \"Daddy's Work Blues Band\"\nΟι Daddy’
 s Work Blues Band είναι μια blues- rock μπάντα με έδ
 ρα τα Δυτικά Προάστια της Αθήνας (πέρα 
 από το ποτάμι). Το πιο δυνατό σημείο αυ
 ής της μπάντας, είναι ο προσωπικός της
  χαρακτήρας που οφείλεται στη σχέση με
 ταξύ των μελών της. “Δεν είμαστε απλώς
  φίλοι, είμαστε από παιδιά, εμπλεκόμεν
 ι ο ένας στη ζωή του άλλου. Αυτή η παρέ
  που είναι σαν να υπήρχε και πριν από μ
 ας(!), μάς εμπνέει να μένουμε ίδιοι για 
 α μπορούμε να αλλάζουμε και να εξελισ
 όμαστε. Γι’ αυτό οι συναυλίες μας δεν 
 μοιάζουν μεταξύ τους, ενώ το κοινό από 
 όπου κι αν προέρχεται (μουσικά μιλώντα
 ς), βρίσκει πάντα στην ερμηνεία μας ένα
  κομμάτι της ψυχής του (κατά δήλωσή του
 ς)”, λένε χαρακτηριστικά. Οι Daddy’s Work Blu
 es Band άνοιξαν τις συναυλίες γνωστών μου
 σικών συγκροτημάτων όπως οι Δρ Feellgood, Lo
 uisiana Red, Blues Wire, Ansley Lister, ….. “Είναι μεγάλ
 η υπόθεση να γνωρίζεις ότι το blues είναι
  αυτό ακριβώς που νιώθεις και δεν είνα
  ανάγκη να μπαίνεις σε «καλούπια»… κα
 ι οι Daddies ακολουθούν την καρδιά τους, γ
  αυτό είναι αυθεντικοί. “(Michalis Limnios BLUES
  @ GREECE)”   Η μπάντα αποτελείται από: • Δ
 μήτρης Δουλγερίδης: κιθάρα-φωνή, • Στ
 θης Ανέστης: μπάσο • Ευθύμιος Πολύζος
 : τύμπανα • Γιάννης Παχύδης: φυσαρμόνι
 κα   Daddy’s Work Blues Band is a blues-rock band based in western
  Athens (across the river).  Our strongest point is the relationship t
 hat we have with each other. We are not just friends, we all grew up t
 ogether and have become involved in each other’s lives. It seems lik
 e our friendship existed before we were born(!) and therefore inspires
  us to remain grounded and yet to change and evolve. This is why our s
 hows are never the same.  Daddy’s Work Blues Band has been an openin
 g act for famous bands such as: Dr. Feellgood, Louisiana Red, Blues Wi
 re, Ansley Lister, …..\n “It’s important to know that blues is p
 ure feeling and should not be put into “molds”… and Daddies foll
 ow their heart, so it’s authentic.” (Michalis Limnios BLUES @ GREE
 CE ) ”  Members of the band:  • Dimitris Doulgeridis: guitar and v
 ocals; • Stathis Anestis : bass, • Timmy Polyzos: drums • John P
 achidis: harmonica  info: https://vassaras.gr/\n\nFor more informatio
 n visit https://blues.gr/events/daddy-s-work-blues-band-at-oreino-fest
 ival
DTSTART;TZID=Europe/Athens:20160730T000000
DTEND;TZID=Europe/Athens:20160730T235900
CATEGORIES:festival
LOCATION:Vérroia, Lakonia, Greece
WEBSITE:https://goo.gl/maps/QNY2JrS3mD52
URL:https://goo.gl/maps/QNY2JrS3mD52
CONTACT:
ORGANIZER;CN="Giannis Pachidis":https://blues.gr/profile/ioannis
ATTACH;FMTTYPE="image/jpeg":http://storage.ning.com/topology/rest/1.0/
 file/get/2253048305?profile=original
ATTENDEE;ROLE=REQ-PARTICIPANT;PARTSTAT=ACCEPTED;RSVP=TRUE;CN="Giannis 
 Pachidis":https://blues.gr/profile/ioannis
END:VEVENT
END:VCALENDAR
