BEGIN:VCALENDAR
PRODID:NingEventWidget-v1
VERSION:2.0
METHOD:PUBLISH
BEGIN:VTIMEZONE
TZID:Europe/Athens
X-LIC-LOCATION:Europe/Athens
BEGIN:DAYLIGHT
TZOFFSETFROM:+0200
TZOFFSETTO:+0300
TZNAME:EEST
DTSTART:19700329T030000
RRULE:FREQ=YEARLY;BYMONTH=3;BYDAY=-1SU
END:DAYLIGHT
BEGIN:STANDARD
TZOFFSETFROM:+0300
TZOFFSETTO:+0200
TZNAME:EET
DTSTART:19701025T040000
RRULE:FREQ=YEARLY;BYMONTH=10;BYDAY=-1SU
END:STANDARD
END:VTIMEZONE
BEGIN:VEVENT
UID:1982923:Event:248784
DTSTAMP:20260422T122833Z
SUMMARY:Daddy's Work Blues Band Live at Barrel House
DESCRIPTION:To Barrel House φιλοξενεί τους Daddy's Work B
 lues Band την Κυριακή στις 27 Νοεμβρίου. Είσ
 οδος: Ελεύθερη Έναρξη: 09:00 μ.μ.  Οι Daddy's Wo
 rk Blues Band είναι μια μπάντα από τα Δυτικά 
 Προάστια της Αθήνας. Το όνομά τους το π
 ήραν από ένα τραγούδι του Ηλία Ζάικου 
 ου περιλαμβάνεται στο δεύτερο LP των Blu
 es Wire (Blues Gang - On a second thought – 1985). Οι Daddy's Work
  παίζουν ηλεκτρικό Blues. Παρόλο που το ε
 δος έχει σαφή ταυτότητα για τους περι
 σότερους ακροατές, η εκφορά της μπάντ
 ς πατάει στα διαχρονικά ακούσματα των
  μελών της, που ποικίλουν και την οδηγο
 ύν μερικές φορές ή σχεδόν πάντα πέρα α
 ό την κεντρική λεωφόρο των Blues ακολουθ
 ώντας συγγενικές διαδρομές… άγνωστο 
 ια το που θα την οδηγήσουν.  Τη μπάντα 
 αποτελούν οι: Δημήτρης Δουλγερίδης: ηλ
 εκτρική κιθάρα, φωνητικά Στάθης Ανέστ
 ς: μπάσο Ευθύμιος Πολύζος: τύμπανα Γιά
 ννης Παχύδης: φυσαρμόνικα\n\n\nFor more informat
 ion visit https://blues.gr/events/daddy-s-work-blues-band-live-at-barr
 el-house-1
DTSTART;TZID=Europe/Athens:20161127T210000
DTEND;TZID=Europe/Athens:20161128T010000
CATEGORIES:live
LOCATION:Barrel House
WEBSITE:
URL:
CONTACT:210 9606060
ORGANIZER;CN="Giannis Pachidis":https://blues.gr/profile/ioannis
ATTACH;FMTTYPE="image/jpeg":http://storage.ning.com/topology/rest/1.0/
 file/get/2253051119?profile=original
ATTENDEE;ROLE=REQ-PARTICIPANT;PARTSTAT=ACCEPTED;RSVP=TRUE;CN="Giannis 
 Pachidis":https://blues.gr/profile/ioannis
END:VEVENT
END:VCALENDAR
