BEGIN:VCALENDAR
PRODID:NingEventWidget-v1
VERSION:2.0
METHOD:PUBLISH
BEGIN:VTIMEZONE
TZID:Europe/Athens
X-LIC-LOCATION:Europe/Athens
BEGIN:DAYLIGHT
TZOFFSETFROM:+0200
TZOFFSETTO:+0300
TZNAME:EEST
DTSTART:19700329T030000
RRULE:FREQ=YEARLY;BYMONTH=3;BYDAY=-1SU
END:DAYLIGHT
BEGIN:STANDARD
TZOFFSETFROM:+0300
TZOFFSETTO:+0200
TZNAME:EET
DTSTART:19701025T040000
RRULE:FREQ=YEARLY;BYMONTH=10;BYDAY=-1SU
END:STANDARD
END:VTIMEZONE
BEGIN:VEVENT
UID:1982923:Event:356924
DTSTAMP:20260422T162753Z
SUMMARY:Daddy's Work Blues Band Live at Lost n' Found
DESCRIPTION:\nDaddy's Work Blues Band Live at Lost n' FoundΟι Daddy'
 s Work Blues Band είναι μια μπάντα από τα Δυτι
 ά Προάστια της Αθήνας και παίζουν ηλε
 τρικό Blues. Παρόλο που το είδος έχει σαφ
 ή ταυτότητα για τους περισσότερους ακ
 οατές, η εκφορά της μπάντας πατάει στα
  διαχρονικά ακούσματα των μελών της, π
 υ ποικίλουν και την οδηγούν μερικές φ
 ρές ή σχεδόν πάντα πέρα από την κεντρι
 κή λεωφόρο των Blues ακολουθώντας συγγεν
 ικές διαδρομές… άγνωστο για το που θα 
 την οδηγήσουν. Τη μπάντα αποτελούν οι:
 ημήτρης Δουλγερίδης: ηλεκτρική κιθάρ
 , φωνητικάΣτάθης Ανέστης: μπάσοΕυθύμι
 ος Πολύζος: τύμπαναΓιάννης Παχύδης: φυ
 σαρμόνικαΈναρξη 22:30 μ.μ.Παρασκευή 29.11.19
 Κεραμεικού 53 - Αθήνα Τηλ. 2105246564\n\nFor more in
 formation visit https://blues.gr/events/daddy-s-work-blues-band-live-a
 t-lost-n-found
DTSTART;TZID=Europe/Athens:20191129T223000
DTEND;TZID=Europe/Athens:20191130T020000
CATEGORIES:live
LOCATION:Lost n' Found
WEBSITE:https://goo.gl/maps/8cP2Dx74D2Mw9sgMA
URL:https://goo.gl/maps/8cP2Dx74D2Mw9sgMA
CONTACT:2105246564
ORGANIZER;CN="Giannis Pachidis":https://blues.gr/profile/ioannis
ATTACH;FMTTYPE="image/jpeg":https://storage.ning.com/topology/rest/1.0
 /file/get/3719237541?profile=original
ATTENDEE;ROLE=REQ-PARTICIPANT;PARTSTAT=ACCEPTED;RSVP=TRUE;CN="Giannis 
 Pachidis":https://blues.gr/profile/ioannis
END:VEVENT
END:VCALENDAR
