BEGIN:VCALENDAR
PRODID:NingEventWidget-v1
VERSION:2.0
METHOD:PUBLISH
BEGIN:VTIMEZONE
TZID:Europe/Athens
X-LIC-LOCATION:Europe/Athens
BEGIN:DAYLIGHT
TZOFFSETFROM:+0200
TZOFFSETTO:+0300
TZNAME:EEST
DTSTART:19700329T030000
RRULE:FREQ=YEARLY;BYMONTH=3;BYDAY=-1SU
END:DAYLIGHT
BEGIN:STANDARD
TZOFFSETFROM:+0300
TZOFFSETTO:+0200
TZNAME:EET
DTSTART:19701025T040000
RRULE:FREQ=YEARLY;BYMONTH=10;BYDAY=-1SU
END:STANDARD
END:VTIMEZONE
BEGIN:VEVENT
UID:1982923:Event:487419
DTSTAMP:20260420T023907Z
SUMMARY:Daddy’s Work Blues Band Live at Nomads Athens bar
DESCRIPTION:Daddy’s Work Blues Band Live at Nomads Athens bar \n\nD
 addy’s Work Blues Band Live at Nomads Athens bar \n Γεύσεις
 , ζύθοι και live μουσική! \nΑυτό είναι το N
 omads Athens, o νέος πολυεπίπεδος χώρος στην 
 καρδιά της Αθήνας. \nΤο Σάββατο 4 Ιουνί
 υ ανοίγει τις πόρτες του υπόγειου stage 
 ε τη φιλοσοφία bar in a bar και φιλοξενεί τ
 υς Daddy's Work Blues Band.\nΣας καλούμε να έρθετ
  και να ανακαλύψετε κάθε γωνία του πολ
 υμορφικού χώρου!\n \nΟι Daddy's Work Blues Band σε
 βίρουν ένα electric blues gumbo στο Nomads Athens.\nH μ
 άντα από τα δυτικά προάστια της Αθήνα
  είναι ενεργή συναυλιακά για περισσότ
 ερα από 10 χρόνια με πολλές εμφανίσεις 
 ε μουσικές σκηνές (Half Note Jazz Club, Kyttaro Live C
 lub, Zoo, Granazi,In Vivo, Vinilion, Ianos, Badminton Theatre, Crow, H
 oxton κ.α.) και φεστιβάλ (Blues for Peace, Crescent Moon 
 Festival, Highway Festival, Blues ‘n Bikes Festival, Loutraki Blues 
 Festival, Rock Aid κ.α.)\nΟι Daddy’s Work Blues Band άνοιξ
 ν τις συναυλίες γνωστών μουσικών συγκ
 ροτημάτων όπως οι Δρ Feellgood, Louisiana Red, Blues 
 Wire, Martin Turner (ex-Wishbone Ash),  Ansley Lister, .....\n Θα 
 παίξουν αγαπημένα Blues, θα φλερτάρουν μ
  όλα τα γειτονικά ιδιώματα και θα παρο
 υσιάσουν δικά τους κομμάτια από το ντε
 μπούτο album τους “First”\n(https://daddysworkbluesband.
 bandcamp.com/releases) που κυκλοφόρησε πρόσφατα.
 \n Οι Daddies είναι:\nΔημήτρης Δουλγερίδης 
 (κιθάρα - τραγούδι),\nΣτάθης Ανέστης (μπ
 σο),\nΘέμης Πολύζος (τύμπανα)\nΓιάννης Π
 αχύδης (φυσαρμόνικα).\n Daddy’s Work Blues Band - 
 Brings the Blues to your Door!\n \nNomads  Athens bar \nΕρμού 
 135, Θησείο,\nΤηλέφωνο : 6936660260\n ΕΛΕΥΘΕΡΗ 
 ΕΙΣΟΔΟΣ\n https://www.facebook.com/nomadsathens\n\n\nFor more 
 information visit https://blues.gr/events/daddy-s-work-blues-band-live
 -at-nomads-athens-bar
DTSTART;TZID=Europe/Athens:20220604T093000
DTEND;TZID=Europe/Athens:20220605T123000
CATEGORIES:live
LOCATION:Nomads Athens bar
WEBSITE:https://goo.gl/maps/AtmgvRBP8iJrtbTw7
URL:https://goo.gl/maps/AtmgvRBP8iJrtbTw7
CONTACT:6936660260
ORGANIZER;CN="Giannis Pachidis":https://blues.gr/profile/ioannis
ATTACH;FMTTYPE="image/jpeg":https://storage.ning.com/topology/rest/1.0
 /file/get/10521716653?profile=original
ATTENDEE;ROLE=REQ-PARTICIPANT;PARTSTAT=ACCEPTED;RSVP=TRUE;CN="Giannis 
 Pachidis":https://blues.gr/profile/ioannis
END:VEVENT
END:VCALENDAR
