BEGIN:VCALENDAR
PRODID:NingEventWidget-v1
VERSION:2.0
METHOD:PUBLISH
BEGIN:VTIMEZONE
TZID:Europe/Athens
X-LIC-LOCATION:Europe/Athens
BEGIN:DAYLIGHT
TZOFFSETFROM:+0200
TZOFFSETTO:+0300
TZNAME:EEST
DTSTART:19700329T030000
RRULE:FREQ=YEARLY;BYMONTH=3;BYDAY=-1SU
END:DAYLIGHT
BEGIN:STANDARD
TZOFFSETFROM:+0300
TZOFFSETTO:+0200
TZNAME:EET
DTSTART:19701025T040000
RRULE:FREQ=YEARLY;BYMONTH=10;BYDAY=-1SU
END:STANDARD
END:VTIMEZONE
BEGIN:VEVENT
UID:1982923:Event:253253
DTSTAMP:20260422T054258Z
SUMMARY:Daddy's Work Blues Band Live at old habits
DESCRIPTION:Οι Daddy's Work Blues Band είναι μια μπάντ
  από τα Δυτικά Προάστια της Αθήνας. Το 
 όνομά τους το πήραν από ένα τραγούδι τ
 υ Ηλία Ζάικου που περιλαμβάνεται στο 
 εύτερο LP των Blues Wire (Blues Gang - On a second thought 
  1985).Οι Daddy's Work παίζουν ηλεκτρικό Blues. Π
 αρόλο που το είδος έχει σαφή ταυτότητα
  για τους περισσότερους ακροατές, η εκ
 ορά της μπάντας πατάει στα διαχρονικά
  ακούσματα των μελών της, που ποικίλου
  και την οδηγούν μερικές φορές ή σχεδό
 ν πάντα πέρα από την κεντρική λεωφόρο 
 ων Blues ακολουθώντας συγγενικές διαδρο
 μές… άγνωστο για το που θα την οδηγήσο
 υν. Τα μέλη της μπάντας, πρώτα απ' όλα σ
 τενοί φίλοι από παιδιά, διέσχισαν μια 
 οινή πορεία, ίδιες μουσικές επιρροές 
 ου έπαιξαν σημαντικό ρόλο στις αναζητ
 ήσεις και τον τρόπο έκφρασης τους, πάν
 α με την ανάγκη για μεγαλύτερη επικοι
 ωνία. Τη μπάντα αποτελούν οι:Δημήτρης
  Δουλγερίδης: ηλεκτρική κιθάρα, φωνητι
 κάΣτάθης Ανέστης: μπάσοΕυθύμιος Πολύζ
 ος: τύμπαναΓιάννης Παχύδης: φυσαρμόνι
 α“Είναι μεγάλη υπόθεση να γνωρίζεις 
 τι το Blues είναι αυτό ακριβώς που νιώθε
 ς και δεν είναι ανάγκη να μπαίνεις σε 
 καλούπια»… και οι Daddies ακολουθούν την
  καρδιά τους, γι αυτό είναι αυθεντικοί.
 ”Michalis Limnios (Greek Ambassador at the Blues Hall of Fame)\nΕί
 σοδος Ελεύθερη\n\n\nFor more information visit https://bl
 ues.gr/events/daddy-s-work-blues-band-live-at-old-habits
DTSTART;TZID=Europe/Athens:20170210T220000
DTEND;TZID=Europe/Athens:20170211T010000
CATEGORIES:live, blues, "&", jam
LOCATION:Old Habits
WEBSITE:
URL:
CONTACT:210 5909850
ORGANIZER;CN="Giannis Pachidis":https://blues.gr/profile/ioannis
ATTACH;FMTTYPE="image/jpeg":http://storage.ning.com/topology/rest/1.0/
 file/get/2253057930?profile=original
ATTENDEE;ROLE=REQ-PARTICIPANT;PARTSTAT=ACCEPTED;RSVP=TRUE;CN="Giannis 
 Pachidis":https://blues.gr/profile/ioannis
END:VEVENT
END:VCALENDAR
