BEGIN:VCALENDAR
PRODID:NingEventWidget-v1
VERSION:2.0
METHOD:PUBLISH
BEGIN:VTIMEZONE
TZID:Europe/Athens
X-LIC-LOCATION:Europe/Athens
BEGIN:DAYLIGHT
TZOFFSETFROM:+0200
TZOFFSETTO:+0300
TZNAME:EEST
DTSTART:19700329T030000
RRULE:FREQ=YEARLY;BYMONTH=3;BYDAY=-1SU
END:DAYLIGHT
BEGIN:STANDARD
TZOFFSETFROM:+0300
TZOFFSETTO:+0200
TZNAME:EET
DTSTART:19701025T040000
RRULE:FREQ=YEARLY;BYMONTH=10;BYDAY=-1SU
END:STANDARD
END:VTIMEZONE
BEGIN:VEVENT
UID:1982923:Event:487521
DTSTAMP:20260420T024126Z
SUMMARY:Daddy's Work Blues Band Live at Stones
DESCRIPTION:Οι Daddy's Work Blues Band για πρώτη φορά σ
 το Stones. Η μπάντα παίζει ηλεκτρικό blues μ
  ποικίλες αναφορές στα γειτονικά ιδιώ
 ματα (rock, soul, funk, jazz). Έχει «καταγωγή» απ
  τα Δυτικά Προάστια της Αθήνας και είν
 αι ενεργή συναυλιακά για περισσότερα 
 πό 10 χρόνια με πολλές εμφανίσεις σε μο
 υσικές σκηνές (Half Note Jazz Club, Kyttaro Live Club, Zoo
 , Granazi, In Vivo, Vinilion, Ianos, Badminton Theatre, Crow, Hoxton 
 .α.) και φεστιβάλ (Blues for Peace, Crescent Moon Festiva
 l, Highway Festival, Blues ‘n Bikes Festival, Loutraki Blues Festiva
 l, Rock Aid κ.α.). Έχουν ανοίξει τις εμφανίσε
 ις σημαντικών καλλιτεχνών όπως ο Louisiana
  Red, οι Doctor Feelgood, η Janice Harrington, ο Martin Turner (ex
  Wishbone Ash) κ.α.\n\nΟι Daddy's Work Blues Band αποτελού
 νται από τους Δημήτρη Δουλγερίδη (κιθά
 ρα - τραγούδι), Στάθη Ανέστη (μπάσο), Θέμ
 η Πολύζο (τύμπανα) και Γιάννη Παχύδη (φ
 σαρμόνικα).Tον Ιανουάριο του 2022 κυκλοφ
 όρησε το ντεμπούτο τους στην δισκογρα
 ία με τον τίτλο “First” (https://daddysworkbluesband.
 bandcamp.com/releases),\nhttps://www.facebook.com/.../Daddys-Work.../1
 00036933493042/\n“Είναι μεγάλη υπόθεση να γνω
 ρίζεις ότι το Blues είναι αυτό ακριβώς πο
 υ νιώθεις και δεν είναι ανάγκη να μπαί
 εις σε «καλούπια»… και οι Daddies ακολου
 ούν την καρδιά τους, γι’ αυτό είναι αυ
 θεντικοί.” (Μιχάλης Λημνιός, δημοσιογ
 άφος-παραγωγός Blues.gr).\n\n\nFor more information visi
 t https://blues.gr/events/daddy-s-work-blues-band-live-at-stones
DTSTART;TZID=Europe/Athens:20220708T214500
DTEND;TZID=Europe/Athens:20220709T010000
CATEGORIES:live, music
LOCATION:Stones Live Stage
WEBSITE:https://goo.gl/maps/CwmvphHQrGT3epSRA
URL:https://goo.gl/maps/CwmvphHQrGT3epSRA
CONTACT:210 4666056 - κιν. 6944521759
ORGANIZER;CN="Giannis Pachidis":https://blues.gr/profile/ioannis
ATTACH;FMTTYPE="image/jpeg":https://storage.ning.com/topology/rest/1.0
 /file/get/10617607469?profile=original
ATTENDEE;ROLE=REQ-PARTICIPANT;PARTSTAT=ACCEPTED;RSVP=TRUE;CN="Giannis 
 Pachidis":https://blues.gr/profile/ioannis
END:VEVENT
END:VCALENDAR
