BEGIN:VCALENDAR
PRODID:NingEventWidget-v1
VERSION:2.0
METHOD:PUBLISH
BEGIN:VTIMEZONE
TZID:Europe/Athens
X-LIC-LOCATION:Europe/Athens
BEGIN:DAYLIGHT
TZOFFSETFROM:+0200
TZOFFSETTO:+0300
TZNAME:EEST
DTSTART:19700329T030000
RRULE:FREQ=YEARLY;BYMONTH=3;BYDAY=-1SU
END:DAYLIGHT
BEGIN:STANDARD
TZOFFSETFROM:+0300
TZOFFSETTO:+0200
TZNAME:EET
DTSTART:19701025T040000
RRULE:FREQ=YEARLY;BYMONTH=10;BYDAY=-1SU
END:STANDARD
END:VTIMEZONE
BEGIN:VEVENT
UID:1982923:Event:269089
DTSTAMP:20260422T130436Z
SUMMARY:Daddy’s Work Blues Band Live at The Zoo
DESCRIPTION:Daddy's Work Blues Band Live at The Zoo\nΟι Daddy's Work
  Blues Band είναι μια μπάντα από τα Δυτικά Π
 ροάστια της Αθήνας και παίζουν ηλεκτρ
 κό Blues. Παρόλο που το είδος έχει σαφή τ
 υτότητα για τους περισσότερους ακροα
 ές, η εκφορά της μπάντας πατάει στα δι
 χρονικά ακούσματα των μελών της, που π
 οικίλουν και την οδηγούν μερικές φορέ
  ή σχεδόν πάντα πέρα από την κεντρική 
 εωφόρο των Blues ακολουθώντας συγγενικέ
 ς διαδρομές… άγνωστο για το που θα την
  οδηγήσουν.  Τα μέλη της μπάντας, πρώτα 
 απ' όλα στενοί φίλοι από παιδιά, διέσχι
 σαν μια κοινή πορεία, ίδιες μουσικές ε
 ιρροές που έπαιξαν σημαντικό ρόλο στι
 ς αναζητήσεις και τον τρόπο έκφρασης τ
 ους, πάντα με την ανάγκη για μεγαλύτερ
  επικοινωνία. Αυτή η ανάγκη είναι που 
 άνει τους Daddy’s Work Blues Band συνοδοιπόρου
  στις μουσικές τους διαδρομές. Έχουν ε
 μφανιστεί σε διάφορα μουσικά στέκια κ
 ι φεστιβάλ. (opening act Martin Turner ex Wishbone Ash live 
 στο Κύτταρο , Half Note Jazz Club, Life jazzy bar, Rockwood,
  Stage25, Badminton Theatre, Vinilion, Granazi Blues Bar, 2nd Music Hi
 ghway Festival, 7th Tripoli's Rock Festival, Bike & Blues Festival, Ro
 ck Sinantisi Kiatou, Crescent Blues Festival κ.ά.) Τη μπάντα
  αποτελούν οι: Δημήτρης Δουλγερίδης: η
 εκτρική κιθάρα, φωνητικά Στάθης Ανέστ
 ης: μπάσο Ευθύμιος Πολύζος: τύμπανα Γι
 ννης Παχύδης: φυσαρμόνικα  “Είναι μεγ
 άλη υπόθεση να γνωρίζεις ότι το Blues είν
 αι αυτό ακριβώς που νιώθεις και δεν εί
 αι ανάγκη να μπαίνεις σε «καλούπια»… 
 και οι Daddies ακολουθούν την καρδιά τους,
  γι αυτό είναι αυθεντικοί.” Michalis Limnios (G
 reek Ambassador at the Blues Hall of Fame)\nΕίσοδος 7 ευρώ\
 n\nFor more information visit https://blues.gr/events/daddy-s-work-blu
 es-band-live-at-the-zoo
DTSTART;TZID=Europe/Athens:20181018T220000
DTEND;TZID=Europe/Athens:20181019T010000
CATEGORIES:live, music
LOCATION:the Zoo
WEBSITE:https://goo.gl/maps/B7ZrjurGVfQ2
URL:https://goo.gl/maps/B7ZrjurGVfQ2
CONTACT:210674 5375
ORGANIZER:Daddy's Work Blues Band
ATTACH;FMTTYPE="image/jpeg":http://storage.ning.com/topology/rest/1.0/
 file/get/2253059640?profile=original
ATTENDEE;ROLE=REQ-PARTICIPANT;PARTSTAT=ACCEPTED;RSVP=TRUE;CN="Giannis 
 Pachidis":https://blues.gr/profile/ioannis
END:VEVENT
END:VCALENDAR
