BEGIN:VCALENDAR
PRODID:NingEventWidget-v1
VERSION:2.0
METHOD:PUBLISH
BEGIN:VTIMEZONE
TZID:Europe/Athens
X-LIC-LOCATION:Europe/Athens
BEGIN:DAYLIGHT
TZOFFSETFROM:+0200
TZOFFSETTO:+0300
TZNAME:EEST
DTSTART:19700329T030000
RRULE:FREQ=YEARLY;BYMONTH=3;BYDAY=-1SU
END:DAYLIGHT
BEGIN:STANDARD
TZOFFSETFROM:+0300
TZOFFSETTO:+0200
TZNAME:EET
DTSTART:19701025T040000
RRULE:FREQ=YEARLY;BYMONTH=10;BYDAY=-1SU
END:STANDARD
END:VTIMEZONE
BEGIN:VEVENT
UID:1982923:Event:217703
DTSTAMP:20260424T100916Z
SUMMARY:Daddy’s Work Blues Band Live @ Barrel House
DESCRIPTION:Σας προσκαλούμε στον ζεστό χώρο
  του Barrel House για μια βραδιά όπου εμείς θ
 α προσφέρουμε την μουσική μας και το Bar
 rel την φιλοξενία που το διακρίνει.  DADDY
 S WORK BLUES BAND: Είναι μεγάλη υπόθεση να γνω
 ρίζεις ότι το blues είναι αυτό ακριβώς πο
 υ νιώθεις και δεν είναι ανάγκη να μπαί
 εις σε «καλούπια»… και οι Daddies ακολου
 ούν την καρδιά τους, γι αυτό είναι αυθ
 ντικοί. \"Michael Limnios BLUES @ GREECE\"\n\n\n\n\n\n\nFor mor
 e information visit https://blues.gr/events/daddy-s-work-blues-band-li
 ve-barrel-house-1
DTSTART;TZID=Europe/Athens:20141228T213000
DTEND;TZID=Europe/Athens:20141229T120000
CATEGORIES:live, blues, -, rock
LOCATION:Barrel House
WEBSITE:
URL:
CONTACT:210 9606060
ORGANIZER;CN="Giannis Pachidis":https://blues.gr/profile/ioannis
ATTACH;FMTTYPE="image/jpeg":http://storage.ning.com/topology/rest/1.0/
 file/get/2253032433?profile=original
ATTENDEE;ROLE=REQ-PARTICIPANT;PARTSTAT=ACCEPTED;RSVP=TRUE;CN="Giannis 
 Pachidis":https://blues.gr/profile/ioannis
END:VEVENT
END:VCALENDAR
