BEGIN:VCALENDAR
PRODID:NingEventWidget-v1
VERSION:2.0
METHOD:PUBLISH
BEGIN:VTIMEZONE
TZID:Europe/Athens
X-LIC-LOCATION:Europe/Athens
BEGIN:DAYLIGHT
TZOFFSETFROM:+0200
TZOFFSETTO:+0300
TZNAME:EEST
DTSTART:19700329T030000
RRULE:FREQ=YEARLY;BYMONTH=3;BYDAY=-1SU
END:DAYLIGHT
BEGIN:STANDARD
TZOFFSETFROM:+0300
TZOFFSETTO:+0200
TZNAME:EET
DTSTART:19701025T040000
RRULE:FREQ=YEARLY;BYMONTH=10;BYDAY=-1SU
END:STANDARD
END:VTIMEZONE
BEGIN:VEVENT
UID:1982923:Event:197083
DTSTAMP:20260425T160948Z
SUMMARY:Daddy's Work Blues Band Live @ Fasi Bar (OLD SCHOOL MOTO BIKE 
  PARTY)
DESCRIPTION:OLD SCHOOL MOTO BIKE BLUES - ROCK PARTY\n\n\nFor more info
 rmation visit https://blues.gr/events/daddy-s-work-blues-band-live-fas
 i-bar-old-school-moto-bike-party
DTSTART;TZID=Europe/Athens:20140222T220000
DTEND;TZID=Europe/Athens:20140223T010000
CATEGORIES:moto, bike, -, blues, rock, party
LOCATION:Fasi Bar
WEBSITE:
URL:
CONTACT:
ORGANIZER:Daddy's Work Blues Band
ATTACH;FMTTYPE="image/jpeg":http://storage.ning.com/topology/rest/1.0/
 file/get/2253019425?profile=original
ATTENDEE;ROLE=REQ-PARTICIPANT;PARTSTAT=ACCEPTED;RSVP=TRUE;CN="Tsiamtsi
 kas Nikolaos":https://blues.gr/profile/TsiamtsikasNikolaos
ATTENDEE;ROLE=REQ-PARTICIPANT;PARTSTAT=ACCEPTED;RSVP=TRUE;CN="Giannis 
 Pachidis":https://blues.gr/profile/ioannis
END:VEVENT
END:VCALENDAR
