BEGIN:VCALENDAR
PRODID:NingEventWidget-v1
VERSION:2.0
METHOD:PUBLISH
BEGIN:VTIMEZONE
TZID:Europe/Athens
X-LIC-LOCATION:Europe/Athens
BEGIN:DAYLIGHT
TZOFFSETFROM:+0200
TZOFFSETTO:+0300
TZNAME:EEST
DTSTART:19700329T030000
RRULE:FREQ=YEARLY;BYMONTH=3;BYDAY=-1SU
END:DAYLIGHT
BEGIN:STANDARD
TZOFFSETFROM:+0300
TZOFFSETTO:+0200
TZNAME:EET
DTSTART:19701025T040000
RRULE:FREQ=YEARLY;BYMONTH=10;BYDAY=-1SU
END:STANDARD
END:VTIMEZONE
BEGIN:VEVENT
UID:1982923:Event:148596
DTSTAMP:20260421T175915Z
SUMMARY:Daddy's Work Blues Band Live στο \"Playa del Sol\" ALL DAY 
 BEACH
DESCRIPTION:    Οι Daddy's Work Blues Band Live στο \"Playa de
 l Sol\" ALL DAY BEACH - Cafe Snack Bar.Ώρα προσέλευσης 
 πό το πρωί με την κατάλληλη ένδυση φυσ
 ικά (Μαγιώ, βατραχοπέδιλα, ψαροντούφεκ
 ο, μάσκα, κουβαδάκια...κ.λ.π.)Ώρα έναρξης
  19.00 και κάποια στιγμή θα τελειώσουμε...
 .Παραλία Σχοινιά, μέσα στο Camping Ramnous.Λεω
 φόρος Ποσειδώνος 174, Σχοινιάς, Μαραθών
 ς\n\n\nFor more information visit https://blues.gr/events/daddy-s-wo
 rk-blues-band-live-playa-del-sol-all-day-beach
DTSTART;TZID=Europe/Athens:20120623T190000
DTEND;TZID=Europe/Athens:20120623T223000
CATEGORIES:live, blues-rock, beach, party
LOCATION:Playa Del Sol ALL DAY BEACH - Cafe Snack Bar.
WEBSITE:
URL:
CONTACT:693 473 4330
ORGANIZER;CN="Giannis Pachidis":https://blues.gr/profile/ioannis
ATTACH;FMTTYPE="image/jpeg":http://storage.ning.com/topology/rest/1.0/
 file/get/2252985437?profile=original
ATTENDEE;ROLE=REQ-PARTICIPANT;PARTSTAT=ACCEPTED;RSVP=TRUE;CN="Giannis 
 Pachidis":https://blues.gr/profile/ioannis
END:VEVENT
END:VCALENDAR
