BEGIN:VCALENDAR
PRODID:NingEventWidget-v1
VERSION:2.0
METHOD:PUBLISH
BEGIN:VTIMEZONE
TZID:Europe/Athens
X-LIC-LOCATION:Europe/Athens
BEGIN:DAYLIGHT
TZOFFSETFROM:+0200
TZOFFSETTO:+0300
TZNAME:EEST
DTSTART:19700329T030000
RRULE:FREQ=YEARLY;BYMONTH=3;BYDAY=-1SU
END:DAYLIGHT
BEGIN:STANDARD
TZOFFSETFROM:+0300
TZOFFSETTO:+0200
TZNAME:EET
DTSTART:19701025T040000
RRULE:FREQ=YEARLY;BYMONTH=10;BYDAY=-1SU
END:STANDARD
END:VTIMEZONE
BEGIN:VEVENT
UID:1982923:Event:113431
DTSTAMP:20260419T225515Z
SUMMARY:Daddy's Work Blues Band Live @ Δημοτική Αγορά Κ
 ψέλης
DESCRIPTION:\nΟ Σύλλογος Υπαλλήλων Βιβλίου & 
 Χάρτου Αττικής διοργανώνει πάρτυ. Η εί
 σοδος είναι ελεύθερη. Ποτό 4 ευρώ Μπύρα
  2 ευρώ\n\nFor more information visit https://blues.gr/events/dadd
 y-s-work-blues-band-live
DTSTART;TZID=Europe/Athens:20111015T213000
DTEND;TZID=Europe/Athens:20111016T003000
CATEGORIES:live, -, party
LOCATION:Δημοτική Αγορά Κυψέλης
WEBSITE:
URL:
CONTACT:
ORGANIZER;CN="Giannis Pachidis":https://blues.gr/profile/ioannis
ATTACH;FMTTYPE="image/jpeg":http://storage.ning.com/topology/rest/1.0/
 file/get/2252955002?profile=original
ATTENDEE;ROLE=REQ-PARTICIPANT;PARTSTAT=ACCEPTED;RSVP=TRUE;CN="Thanasis
  Giokas":https://blues.gr/profile/giokasthanasis
ATTENDEE;ROLE=REQ-PARTICIPANT;PARTSTAT=ACCEPTED;RSVP=TRUE;CN="dimitrio
 s doulgeridis":https://blues.gr/profile/dimitriosdoulgeridis
ATTENDEE;ROLE=REQ-PARTICIPANT;PARTSTAT=ACCEPTED;RSVP=TRUE;CN="Giannis 
 Pachidis":https://blues.gr/profile/ioannis
END:VEVENT
END:VCALENDAR
