BEGIN:VCALENDAR
PRODID:NingEventWidget-v1
VERSION:2.0
METHOD:PUBLISH
BEGIN:VTIMEZONE
TZID:Europe/Athens
X-LIC-LOCATION:Europe/Athens
BEGIN:DAYLIGHT
TZOFFSETFROM:+0200
TZOFFSETTO:+0300
TZNAME:EEST
DTSTART:19700329T030000
RRULE:FREQ=YEARLY;BYMONTH=3;BYDAY=-1SU
END:DAYLIGHT
BEGIN:STANDARD
TZOFFSETFROM:+0300
TZOFFSETTO:+0200
TZNAME:EET
DTSTART:19701025T040000
RRULE:FREQ=YEARLY;BYMONTH=10;BYDAY=-1SU
END:STANDARD
END:VTIMEZONE
BEGIN:VEVENT
UID:1982923:Event:200318
DTSTAMP:20260423T221310Z
SUMMARY:Daddy’s Work Blues Band @ Rockwood Live Stage
DESCRIPTION:\nΟι Daddy's Work Blues Band σας προσκαλούν
  στον ιδιαίτερο και όμορφο χώρο του Rocwo
 od Live Stage. Η ιδιαιτερότητα του χώρου αυτ
 ύ σε μεταφέρει στα αντίστοιχα Blues-Bar το
 υ Chicago. Ο συνδιασμός της πέτρας, του ξύλ
 ου που κυριαρχεί, η διακόσμηση και ο φω
 τισμός του χώρου δημιουργούν την κατά
 ληλη ατμόσφαιρα που μας εμπνέει για ν
  σας ταξιδέψουμε μουσικά.   Οι Daddy's Work Bl
 ues Band είναι μια Electric Blues μπάντα με έδρα 
 α Δυτικά Προάστια της Αθήνας (πέρα από
  το ποτάμι) με αρκετές εμφανίσεις σε μο
 υσικές σκηνές της Αθήνας αλλά και της 
 παρχίας. Το όνομά της η μπάντα το πήρε 
 από ένα τραγούδι των Blues Wire.  Oι επιτυχε
 ς εμφανίσεις μας στα διάφορα μουσικά 
 τέκια και φεστιβάλ μας ενεργοποίησε έ
 τσι ώστε να διατηρούμε ένα σταθερό ρυθ
 μό εμφανίσεων με σκοπό να προσφέρουμε 
 στον κόσμο την δική μας ιδιαίτερη μουσ
 ική προσέγγιση και απόδοση της μουσικ
 ς που αγαπάμε.  Το πιο δυνατό σημείο αυ
 τής της μπάντας, είναι ο προσωπικός τη
  χαρακτήρας που οφείλεται στη μεταξύ 
 ας σχέση. Δεν είμαστε απλώς φίλοι, είμ
 στε από παιδιά, εμπλεκόμενοι ο ένας στ
 η ζωή του άλλου. Αυτή η παρέα που είναι 
 σαν να υπήρχε και πριν από μας(!), μάς εμ
 πνέει να μένουμε ίδιοι για να μπορούμε
  να αλλάζουμε και να εξελισσόμαστε. Γι
  αυτό οι συναυλίες μας δεν μοιάζουν μ
 ταξύ τους, ενώ το κοινό από όπου κι αν 
 ροέρχεται (μουσικά μιλώντας), βρίσκει 
 πάντα στην ερμηνεία μας ένα κομμάτι τη
 ς ψυχής του (κατά δήλωσή τους).  Οι Daddy's W
 ork Blues Band έχουν εμφανιστεί σε: Half Note Jazz Cl
 ub, Granazi Blues Bar, Ianos Stage, Life jazzy bar, Rockwood Stage25, 
 Badminton Theater, 7th TRIPolis Rock Festival, Crescent Blues Festival
 ,  2ο Music Highway Festival, 9 Rock Sinantisi Kiatou κ.ά.  Η μπ
 άντα αποτελείται από:   Δημήτρης Δουλγ
 ρίδης: κιθάρα-φωνή, Θύμιος Σπηλιωτόπο
 λος: κιθάρα Στάθης Ανέστης: μπάσο,  Ευθ
 ύμιος Πολύζος: τύμπανα  Γιάννης Παχύδη
 ς: φυσαρμόνικα Φάνης Θεοφίλου: piano...and wi
 ll always be in our hearts  Αντί εισόδου οικονομικ
 ή επιβάρυνση 3 € στο πρώτο ποτό/μπύρα/κ
 ρασί,\n\nFor more information visit https://blues.gr/events/daddy-
 s-work-blues-band-rockwood-live-stage
DTSTART;TZID=Europe/Athens:20140412T223000
DTEND;TZID=Europe/Athens:20140413T013000
CATEGORIES:live, blues, -, rock
LOCATION:Rockwood Live Stage
WEBSITE:
URL:
CONTACT:6980762062
ORGANIZER:Daddy’s Work Blues Band
ATTACH;FMTTYPE="image/jpeg":http://storage.ning.com/topology/rest/1.0/
 file/get/2253020698?profile=original
ATTENDEE;ROLE=REQ-PARTICIPANT;PARTSTAT=ACCEPTED;RSVP=TRUE;CN="Giannis 
 Pachidis":https://blues.gr/profile/ioannis
END:VEVENT
END:VCALENDAR
