BEGIN:VCALENDAR
PRODID:NingEventWidget-v1
VERSION:2.0
METHOD:PUBLISH
BEGIN:VTIMEZONE
TZID:Europe/Athens
X-LIC-LOCATION:Europe/Athens
BEGIN:DAYLIGHT
TZOFFSETFROM:+0200
TZOFFSETTO:+0300
TZNAME:EEST
DTSTART:19700329T030000
RRULE:FREQ=YEARLY;BYMONTH=3;BYDAY=-1SU
END:DAYLIGHT
BEGIN:STANDARD
TZOFFSETFROM:+0300
TZOFFSETTO:+0200
TZNAME:EET
DTSTART:19701025T040000
RRULE:FREQ=YEARLY;BYMONTH=10;BYDAY=-1SU
END:STANDARD
END:VTIMEZONE
BEGIN:VEVENT
UID:1982923:Event:289757
DTSTAMP:20260420T124552Z
SUMMARY:Daddy’s Work Live at Vinyl Cafe
DESCRIPTION:  Ain’t Nothing but the Blues...!!!•Daddy’s Work bl
 ues band Live στο Vinyl music cafe Σάββατο 4/5...!!Dimitris 
 Doulgeridis:Guitar vocalsStathis Anestis: BassThimios Polizos: DrumsGi
 annis Pachidis: HarmonicaΕίσοδος Ελεύθερη+2€ στο 1
 ο ποτό\n\nFor more information visit https://blues.gr/events/dadd
 y-s-work-live-at-vinyl-cafe
DTSTART;TZID=Europe/Athens:20190504T220000
DTEND;TZID=Europe/Athens:20190505T010000
CATEGORIES:live, blues, music
LOCATION:Vinyl Cafe
WEBSITE:https://goo.gl/maps/TZSojJkau2XEYRcB9
URL:https://goo.gl/maps/TZSojJkau2XEYRcB9
CONTACT:2110124103
ORGANIZER;CN="Giannis Pachidis":https://blues.gr/profile/ioannis
ATTACH;FMTTYPE="image/jpeg":https://storage.ning.com/topology/rest/1.0
 /file/get/2291827511?profile=original
ATTENDEE;ROLE=REQ-PARTICIPANT;PARTSTAT=ACCEPTED;RSVP=TRUE;CN="Giannis 
 Pachidis":https://blues.gr/profile/ioannis
END:VEVENT
END:VCALENDAR
