BEGIN:VCALENDAR
PRODID:NingEventWidget-v1
VERSION:2.0
METHOD:PUBLISH
BEGIN:VTIMEZONE
TZID:Europe/Athens
X-LIC-LOCATION:Europe/Athens
BEGIN:DAYLIGHT
TZOFFSETFROM:+0200
TZOFFSETTO:+0300
TZNAME:EEST
DTSTART:19700329T030000
RRULE:FREQ=YEARLY;BYMONTH=3;BYDAY=-1SU
END:DAYLIGHT
BEGIN:STANDARD
TZOFFSETFROM:+0300
TZOFFSETTO:+0200
TZNAME:EET
DTSTART:19701025T040000
RRULE:FREQ=YEARLY;BYMONTH=10;BYDAY=-1SU
END:STANDARD
END:VTIMEZONE
BEGIN:VEVENT
UID:1982923:Event:76170
DTSTAMP:20260419T172625Z
SUMMARY:Daddy's Work Blues Band  Live at Juggler Bar
DESCRIPTION:ΜΙΑ ΞΕΧΩΡΙΣΤΗ ΜΟΥΣΙΚΗ ΒΡΑΔΥΑ ΣΕ
  BLUES-ROCK ΔΙΑΔΡΟΜΕΣ.\n\n\nFor more information visit https:
 //blues.gr/events/daddys-work-blues-band-live-3
DTSTART;TZID=Europe/Athens:20101106T223000
DTEND;TZID=Europe/Athens:20101107T020000
CATEGORIES:blues, -, rock
LOCATION:Juggler Bar
WEBSITE:
URL:
CONTACT:
ORGANIZER;CN="Giannis Pachidis":https://blues.gr/profile/ioannis
ATTACH;FMTTYPE="image/jpeg":http://storage.ning.com/topology/rest/1.0/
 file/get/2252944338?profile=original
ATTENDEE;ROLE=REQ-PARTICIPANT;PARTSTAT=ACCEPTED;RSVP=TRUE;CN="manos ka
 rzis":https://blues.gr/profile/manoskarzis
ATTENDEE;ROLE=REQ-PARTICIPANT;PARTSTAT=ACCEPTED;RSVP=TRUE;CN="dimitrio
 s doulgeridis":https://blues.gr/profile/dimitriosdoulgeridis
ATTENDEE;ROLE=REQ-PARTICIPANT;PARTSTAT=ACCEPTED;RSVP=TRUE;CN="Thanasis
  Giokas":https://blues.gr/profile/giokasthanasis
ATTENDEE;ROLE=REQ-PARTICIPANT;PARTSTAT=ACCEPTED;RSVP=TRUE;CN="Giannis 
 Pachidis":https://blues.gr/profile/ioannis
END:VEVENT
END:VCALENDAR
