BEGIN:VCALENDAR
PRODID:NingEventWidget-v1
VERSION:2.0
METHOD:PUBLISH
BEGIN:VTIMEZONE
TZID:Europe/Athens
X-LIC-LOCATION:Europe/Athens
BEGIN:DAYLIGHT
TZOFFSETFROM:+0200
TZOFFSETTO:+0300
TZNAME:EEST
DTSTART:19700329T030000
RRULE:FREQ=YEARLY;BYMONTH=3;BYDAY=-1SU
END:DAYLIGHT
BEGIN:STANDARD
TZOFFSETFROM:+0300
TZOFFSETTO:+0200
TZNAME:EET
DTSTART:19701025T040000
RRULE:FREQ=YEARLY;BYMONTH=10;BYDAY=-1SU
END:STANDARD
END:VTIMEZONE
BEGIN:VEVENT
UID:1982923:Event:79111
DTSTAMP:20260421T150526Z
SUMMARY:Daddy's Work Blues Band  Live   @  Vinilion
DESCRIPTION:Daddy's Work Blues Band\n\nStelios Merticas: Vocals\nThemi
 s Polizos: Drums\nGiannis Pachidis: Harmonica\nStathis Anestis: Bass\n
 Thanasis Giokas:Guitar\nDimitris Doulgeridis:Guitar\nFanis Theofilou a
 lways in our hearts....always remembered.....\n\nVinilion\nΈκτωρ
 ς 92 & Μενελάου ΙΛΙΟΝ\nΤηλ. 210-2692640\n\nFor more 
 information visit https://blues.gr/events/daddys-work-blues-band-live-
 4
DTSTART;TZID=Europe/Athens:20101204T103000
DTEND;TZID=Europe/Athens:20101205T140000
CATEGORIES:συναυλια
LOCATION:VINILION
WEBSITE:
URL:
CONTACT:210-2692640
ORGANIZER;CN="Giannis Pachidis":https://blues.gr/profile/ioannis
ATTACH;FMTTYPE="image/jpeg":http://storage.ning.com/topology/rest/1.0/
 file/get/2252945567?profile=original
ATTENDEE;ROLE=REQ-PARTICIPANT;PARTSTAT=ACCEPTED;RSVP=TRUE;CN="dimitrio
 s doulgeridis":https://blues.gr/profile/dimitriosdoulgeridis
ATTENDEE;ROLE=REQ-PARTICIPANT;PARTSTAT=ACCEPTED;RSVP=TRUE;CN="Giannis 
 Pachidis":https://blues.gr/profile/ioannis
END:VEVENT
END:VCALENDAR
