BEGIN:VCALENDAR
PRODID:NingEventWidget-v1
VERSION:2.0
METHOD:PUBLISH
BEGIN:VTIMEZONE
TZID:Europe/Athens
X-LIC-LOCATION:Europe/Athens
BEGIN:DAYLIGHT
TZOFFSETFROM:+0200
TZOFFSETTO:+0300
TZNAME:EEST
DTSTART:19700329T030000
RRULE:FREQ=YEARLY;BYMONTH=3;BYDAY=-1SU
END:DAYLIGHT
BEGIN:STANDARD
TZOFFSETFROM:+0300
TZOFFSETTO:+0200
TZNAME:EET
DTSTART:19701025T040000
RRULE:FREQ=YEARLY;BYMONTH=10;BYDAY=-1SU
END:STANDARD
END:VTIMEZONE
BEGIN:VEVENT
UID:1982923:Event:43373
DTSTAMP:20260422T110252Z
SUMMARY:Daddy's Work Blues Band Live at Limbo
DESCRIPTION:Daddy's Work Blues Band Live.\nΜια βραδυά γεμ
 τη μουσική σε Blues - Rock διαδρομές.\n\nΤηλέ
 φωνο 210 5983627\n\nFor more information visit https://blues.gr/ev
 ents/daddys-work-blues-band-live-at
DTSTART;TZID=Europe/Athens:20100305T230000
DTEND;TZID=Europe/Athens:20100306T020000
CATEGORIES:live, blues, rock
LOCATION:Limbo Rock Bar
WEBSITE:
URL:
CONTACT:210 5983627
ORGANIZER;CN="Giannis Pachidis":https://blues.gr/profile/ioannis
ATTACH;FMTTYPE="image/jpeg":http://storage.ning.com/topology/rest/1.0/
 file/get/2252939287?profile=original
ATTENDEE;ROLE=REQ-PARTICIPANT;PARTSTAT=ACCEPTED;RSVP=TRUE;CN="Giannis 
 Pachidis":https://blues.gr/profile/ioannis
END:VEVENT
END:VCALENDAR
