BEGIN:VCALENDAR
PRODID:NingEventWidget-v1
VERSION:2.0
METHOD:PUBLISH
BEGIN:VTIMEZONE
TZID:Europe/Athens
X-LIC-LOCATION:Europe/Athens
BEGIN:DAYLIGHT
TZOFFSETFROM:+0200
TZOFFSETTO:+0300
TZNAME:EEST
DTSTART:19700329T030000
RRULE:FREQ=YEARLY;BYMONTH=3;BYDAY=-1SU
END:DAYLIGHT
BEGIN:STANDARD
TZOFFSETFROM:+0300
TZOFFSETTO:+0200
TZNAME:EET
DTSTART:19701025T040000
RRULE:FREQ=YEARLY;BYMONTH=10;BYDAY=-1SU
END:STANDARD
END:VTIMEZONE
BEGIN:VEVENT
UID:1982923:Event:105150
DTSTAMP:20260421T230840Z
SUMMARY:Daddy's Work Live @ Ianos Bookstore
DESCRIPTION:Daddy's Work\nΠαίζουν: Στέλιος Μέρτηκ
 ς: φωνητικά Θέμης Πολύζος: τύμπαναΓιά
 νης Παχύδης: φυσαρμόνικαΣτάθης Ανέστ
 ς: ηλεκτρικό μπάσοΘανάσης Γκιόκας: ηλ
 κτρική κιθάραΔημήτρης Δουλγερίδης: η
 εκτρική κιθάρακαι πάντα στις καρδιές 
 μας …Φάνης Θεοφίλου: πλήκτραΧορηγοί Ε
 πικοινωνίας: 902 fm & tv, www.e-orfeas.gr, www.mygreek.fm, 
 www.flowmagazine.gr, www.musicheaven.gr, www.go-out.gr, www.bluesway.g
 r, www.Southernrock.gr, www.postyourevent.grΕίσοδος ελεύθ
 ρηΗ βραδιά θα μεταδοθεί ζωντανά από τ
  ianosradio.grΠληροφορίες: 2103217810Άφιξη: 22.00\n 
 \n\nFor more information visit https://blues.gr/events/daddys-work-liv
 e-ianos
DTSTART;TZID=Europe/Athens:20110625T000000
DTEND;TZID=Europe/Athens:20110625T235900
CATEGORIES:festival
LOCATION:Ianos
WEBSITE:
URL:
CONTACT:210-3217810
ORGANIZER;CN="Giannis Pachidis":https://blues.gr/profile/ioannis
ATTACH;FMTTYPE="image/jpeg":http://storage.ning.com/topology/rest/1.0/
 file/get/2252951258?profile=original
ATTENDEE;ROLE=REQ-PARTICIPANT;PARTSTAT=ACCEPTED;RSVP=TRUE;CN="Tsiamtsi
 kas Nikolaos":https://blues.gr/profile/TsiamtsikasNikolaos
ATTENDEE;ROLE=REQ-PARTICIPANT;PARTSTAT=ACCEPTED;RSVP=TRUE;CN="dimitrio
 s doulgeridis":https://blues.gr/profile/dimitriosdoulgeridis
ATTENDEE;ROLE=REQ-PARTICIPANT;PARTSTAT=ACCEPTED;RSVP=TRUE;CN="Giannis 
 Pachidis":https://blues.gr/profile/ioannis
END:VEVENT
END:VCALENDAR
