BEGIN:VCALENDAR
PRODID:NingEventWidget-v1
VERSION:2.0
METHOD:PUBLISH
BEGIN:VTIMEZONE
TZID:Europe/Athens
X-LIC-LOCATION:Europe/Athens
BEGIN:DAYLIGHT
TZOFFSETFROM:+0200
TZOFFSETTO:+0300
TZNAME:EEST
DTSTART:19700329T030000
RRULE:FREQ=YEARLY;BYMONTH=3;BYDAY=-1SU
END:DAYLIGHT
BEGIN:STANDARD
TZOFFSETFROM:+0300
TZOFFSETTO:+0200
TZNAME:EET
DTSTART:19701025T040000
RRULE:FREQ=YEARLY;BYMONTH=10;BYDAY=-1SU
END:STANDARD
END:VTIMEZONE
BEGIN:VEVENT
UID:1982923:Event:82020
DTSTAMP:20260421T232947Z
SUMMARY:Daddy's Work  Live @ Rooster's Walk
DESCRIPTION:ΕΙΣΟΔΟΣ ΕΛΕΥΘΕΡΗ\n\nΟι Daddy's Work πα
 ζουν Βlues (...και όχι μόνο) με Rock διάθεση 
 και Funk περάσματα.....\nStelios Merticas: Vocals\nThemis 
 Polizos: Drums\nGiannis Pachidis: Harmonica\nStathis Anestis: Bass\nTh
 anasis Giokas:Guitar\nDimitris Doulgeridis:Guitar\n\n\nFor more inform
 ation visit https://blues.gr/events/daddys-work-live-roosters
DTSTART;TZID=Europe/Athens:20101217T230000
DTEND;TZID=Europe/Athens:20101218T020000
CATEGORIES:συναυλία, blues, -, rock
LOCATION:Αθήνα (κέντρο)
WEBSITE:
URL:
CONTACT:210 3224410
ORGANIZER;CN="Giannis Pachidis":https://blues.gr/profile/ioannis
ATTACH;FMTTYPE="image/jpeg":http://storage.ning.com/topology/rest/1.0/
 file/get/2252946326?profile=original
ATTENDEE;ROLE=REQ-PARTICIPANT;PARTSTAT=ACCEPTED;RSVP=TRUE;CN="Thanasis
  Giokas":https://blues.gr/profile/giokasthanasis
ATTENDEE;ROLE=REQ-PARTICIPANT;PARTSTAT=ACCEPTED;RSVP=TRUE;CN="dimitrio
 s doulgeridis":https://blues.gr/profile/dimitriosdoulgeridis
ATTENDEE;ROLE=REQ-PARTICIPANT;PARTSTAT=ACCEPTED;RSVP=TRUE;CN="Giannis 
 Pachidis":https://blues.gr/profile/ioannis
END:VEVENT
END:VCALENDAR
