BEGIN:VCALENDAR
PRODID:NingEventWidget-v1
VERSION:2.0
METHOD:PUBLISH
BEGIN:VTIMEZONE
TZID:Europe/Athens
X-LIC-LOCATION:Europe/Athens
BEGIN:DAYLIGHT
TZOFFSETFROM:+0200
TZOFFSETTO:+0300
TZNAME:EEST
DTSTART:19700329T030000
RRULE:FREQ=YEARLY;BYMONTH=3;BYDAY=-1SU
END:DAYLIGHT
BEGIN:STANDARD
TZOFFSETFROM:+0300
TZOFFSETTO:+0200
TZNAME:EET
DTSTART:19701025T040000
RRULE:FREQ=YEARLY;BYMONTH=10;BYDAY=-1SU
END:STANDARD
END:VTIMEZONE
BEGIN:VEVENT
UID:1982923:Event:255109
DTSTAMP:20260421T212941Z
SUMMARY:Damo Suzuki
DESCRIPTION:Kenji Suzuki better known as Damo Suzuki is a Japanese mus
 ician who has been living in Germany since the early 1970s and is best
  known as the former lead singer of the German krautrock group Can. As
  a teenager, Suzuki spent the late 1960s wandering around Europe, ofte
 n busking.\nWhen Malcolm Mooney left Can after recording their first a
 lbum Monster Movie, Holger Czukay and Jaki Liebezeit encountered Suzuk
 i busking in Munich, Germany, whilst the two were sitting outside at a
  street café. They invited him to join the group, and he did, perform
 ing with them that evening. Suzuki was with Can from 1970 to 1973, rec
 ording a number of well-regarded albums such as Tago Mago, Future Days
  and Ege Bamyasi. Suzuki's first vocal performance with Can was \"Don'
 t Turn the Light On, Leave Me Alone\" from Soundtracks. His freeform, 
 often improvised lyrics, were sung in no particular language. He retur
 ned to music in 1983, and currently leads what is known as \"Damo Suzu
 ki's Network\" – as he tours, he performs live improvisational music
  with various local musicians, so-called \"Sound Carriers\". The Fall'
 s 1985 album This Nation's Saving Grace features a song \"I Am Damo Su
 zuki,\" inspired by the singer. The rock band the Mooney Suzuki takes 
 its name from Damo Suzuki and Can's earlier vocalist Malcolm Mooney. S
 ince 1997 he has been touring or playing separate gigs. He lives in Co
 logne.\n\nFor more information visit https://blues.gr/events/damo-suzu
 ki
DTSTART;TZID=Europe/Athens:20170613T000000
DTEND;TZID=Europe/Athens:20170613T235900
CATEGORIES:rock, jazz, live
LOCATION:Kyttaro Live Club
WEBSITE:
URL:
CONTACT:210-8224134
ORGANIZER:Kyttaro
ATTACH;FMTTYPE="image/jpeg":http://storage.ning.com/topology/rest/1.0/
 file/get/2253053865?profile=original
ATTENDEE;ROLE=REQ-PARTICIPANT;PARTSTAT=ACCEPTED;RSVP=TRUE;CN="Music Ne
 twork by Michael Limnios":https://blues.gr/profile/MichalisLimnios
END:VEVENT
END:VCALENDAR
