BEGIN:VCALENDAR
PRODID:NingEventWidget-v1
VERSION:2.0
METHOD:PUBLISH
BEGIN:VTIMEZONE
TZID:Europe/Athens
X-LIC-LOCATION:Europe/Athens
BEGIN:DAYLIGHT
TZOFFSETFROM:+0200
TZOFFSETTO:+0300
TZNAME:EEST
DTSTART:19700329T030000
RRULE:FREQ=YEARLY;BYMONTH=3;BYDAY=-1SU
END:DAYLIGHT
BEGIN:STANDARD
TZOFFSETFROM:+0300
TZOFFSETTO:+0200
TZNAME:EET
DTSTART:19701025T040000
RRULE:FREQ=YEARLY;BYMONTH=10;BYDAY=-1SU
END:STANDARD
END:VTIMEZONE
BEGIN:VEVENT
UID:1982923:Event:147480
DTSTAMP:20260421T193919Z
SUMMARY:DE JA BLUES BAND & COLLECTIVE BLUES TRIO LIVE AT ROCKWOOD 23-6
 -2012
DESCRIPTION:ΟΙ DE JA BLUES BAND ΘΑ ΑΝΟΙΞΟΥΝ ΤΗ ΒΡΑΔ
 Α ΜΕ BLUES ΔΙΑΣΚΕΥΕΣ ΚΑΙ ΣΤΗ ΣΥΝΕΧΕΙΑ ΘΑ 
 ΑΝΕΒΟΥΝ ΣΤΗ ΣΚΗΝΗ OI COLLECTIVE BLUES TRIO .ΘΑ ΥΠΑ
 ΡΧΕΙ ΑΦΘΟΝΗ ΠΑΓΩΜΕΝΗ ΜΠΥΡΑ.....\n\nFor more inf
 ormation visit https://blues.gr/events/de-ja-blues-band-friends-live-a
 t-rockwood-23-6-2012
DTSTART;TZID=Europe/Athens:20120623T230000
DTEND;TZID=Europe/Athens:20120624T020000
CATEGORIES:blues, live
LOCATION:ΜΟΥΣΕΙΟ ΑΘΗΝΑ
WEBSITE:http://www.rockwood.gr/
URL:http://www.rockwood.gr/
CONTACT:
ORGANIZER;CN=bluesmaniac:https://blues.gr/profile/bluesmaniac
ATTACH;FMTTYPE="image/jpeg":http://storage.ning.com/topology/rest/1.0/
 file/get/2252987544?profile=original
ATTENDEE;ROLE=REQ-PARTICIPANT;PARTSTAT=ACCEPTED;RSVP=TRUE;CN=bluesmani
 ac:https://blues.gr/profile/bluesmaniac
ATTENDEE;ROLE=REQ-PARTICIPANT;PARTSTAT=ACCEPTED;RSVP=TRUE;CN="Dimitris
  Ioannou":https://blues.gr/profile/DimitrisIoannou
END:VEVENT
END:VCALENDAR
