BEGIN:VCALENDAR
PRODID:NingEventWidget-v1
VERSION:2.0
METHOD:PUBLISH
BEGIN:VTIMEZONE
TZID:Europe/Athens
X-LIC-LOCATION:Europe/Athens
BEGIN:DAYLIGHT
TZOFFSETFROM:+0200
TZOFFSETTO:+0300
TZNAME:EEST
DTSTART:19700329T030000
RRULE:FREQ=YEARLY;BYMONTH=3;BYDAY=-1SU
END:DAYLIGHT
BEGIN:STANDARD
TZOFFSETFROM:+0300
TZOFFSETTO:+0200
TZNAME:EET
DTSTART:19701025T040000
RRULE:FREQ=YEARLY;BYMONTH=10;BYDAY=-1SU
END:STANDARD
END:VTIMEZONE
BEGIN:VEVENT
UID:1982923:Event:111082
DTSTAMP:20260424T200000Z
SUMMARY:Diminuita @ Παλιά Πόλη, Ξάνθης
DESCRIPTION:Με αρχή το 2007, οι DIMINUITA κινούνται
  στο χώρο του ορχηστρικού swing, με αναφο
 ές στο πρωτοποριακό Hot Club ερμηνεύοντα
   διασκευές των Django Reinhardt-Stephane Grappelli, α
 λά και άλλων συνθετών της εποχής.Επίσ
 ς  παρουσιάζουν τον πρώτο τους δίσκο 
 ου κυκλοφόρησε τον περασμένο Μάιο με 
 ίτλο “a-rhythmology”.Έμφαση δίνεται στο φυ
 ικό ακουστικό ήχο αλλά και στην αυτοσ
 εδιαστική ελευθερία των μουσικών, τόσ
 ο χαρακτηριστική, ευδιάκριτη, αλλά και
  απόλυτη σ’ όλες της μορφές της τζαζ.Μ
  τον αέρα του swing, και επιρροες από το be
 bop σε συνδυασμό με τους ρυθμικούς ελιγ
 ούς του σχήματος.Γιώργος Παπαδογιάνη
  κιθάρα, σύνθεση, ενορχήστρωσηΈφη Σαρ
 ντη κιθάραΚώστας Αρσένης κοντραμπάσο
 \n\nFor more information visit https://blues.gr/events/diminuita-1
DTSTART;TZID=Europe/Athens:20111008T093000
DTEND;TZID=Europe/Athens:20111008T233000
CATEGORIES:live
LOCATION:Dili Dili
WEBSITE:http://www.myspace.com/diminuitatheswingtrio
URL:http://www.myspace.com/diminuitatheswingtrio
CONTACT:
ORGANIZER:Dili Dili
ATTACH;FMTTYPE="image/jpeg":http://storage.ning.com/topology/rest/1.0/
 file/get/2252954781?profile=original
ATTENDEE;ROLE=REQ-PARTICIPANT;PARTSTAT=ACCEPTED;RSVP=TRUE;CN="Music Ne
 twork by Michael Limnios":https://blues.gr/profile/MichalisLimnios
END:VEVENT
END:VCALENDAR
