BEGIN:VCALENDAR
PRODID:NingEventWidget-v1
VERSION:2.0
METHOD:PUBLISH
BEGIN:VTIMEZONE
TZID:Europe/Athens
X-LIC-LOCATION:Europe/Athens
BEGIN:DAYLIGHT
TZOFFSETFROM:+0200
TZOFFSETTO:+0300
TZNAME:EEST
DTSTART:19700329T030000
RRULE:FREQ=YEARLY;BYMONTH=3;BYDAY=-1SU
END:DAYLIGHT
BEGIN:STANDARD
TZOFFSETFROM:+0300
TZOFFSETTO:+0200
TZNAME:EET
DTSTART:19701025T040000
RRULE:FREQ=YEARLY;BYMONTH=10;BYDAY=-1SU
END:STANDARD
END:VTIMEZONE
BEGIN:VEVENT
UID:1982923:Event:111087
DTSTAMP:20260424T194356Z
SUMMARY:Diminuita @ Θεσσαλονίκη
DESCRIPTION:Με αρχή το 2007, οι DIMINUITA κινούνται
  στο χώρο του ορχηστρικού swing, με αναφο
 ές στο πρωτοποριακό Hot Club ερμηνεύοντα
   διασκευές των Django Reinhardt-Stephane Grappelli, α
 λά και άλλων συνθετών της εποχής.\nΕπί
 ης  παρουσιάζουν τον πρώτο τους δίσκο
  που κυκλοφόρησε τον περασμένο Μάιο με
  τίτλο “a-rhythmology”.Έμφαση δίνεται στο φ
 σικό ακουστικό ήχο αλλά και στην αυτο
 χεδιαστική ελευθερία των μουσικών, τό
 σο χαρακτηριστική, ευδιάκριτη, αλλά κα
 ι απόλυτη σ’ όλες της μορφές της τζαζ.
 ε τον αέρα του swing, και επιρροες από το 
 bebop σε συνδυασμό με τους ρυθμικούς ελι
 μούς του σχήματος.Γιώργος Παπαδογιάν
 ς κιθάρα, σύνθεση, ενορχήστρωσηΈφη Σα
 άντη κιθάραΚώστας Αρσένης κοντραμπάσ
 ο\n\nFor more information visit https://blues.gr/events/diminuita-2
DTSTART;TZID=Europe/Athens:20111009T223000
DTEND;TZID=Europe/Athens:20111010T010000
CATEGORIES:live
LOCATION:Spitimou
WEBSITE:http://www.myspace.com/diminuitatheswingtrio
URL:http://www.myspace.com/diminuitatheswingtrio
CONTACT:
ORGANIZER:Spitimou Innercitygroove
ATTACH;FMTTYPE="image/jpeg":http://storage.ning.com/topology/rest/1.0/
 file/get/2252954781?profile=original
ATTENDEE;ROLE=REQ-PARTICIPANT;PARTSTAT=ACCEPTED;RSVP=TRUE;CN="Music Ne
 twork by Michael Limnios":https://blues.gr/profile/MichalisLimnios
END:VEVENT
END:VCALENDAR
