BEGIN:VCALENDAR
PRODID:NingEventWidget-v1
VERSION:2.0
METHOD:PUBLISH
BEGIN:VTIMEZONE
TZID:Europe/Athens
X-LIC-LOCATION:Europe/Athens
BEGIN:DAYLIGHT
TZOFFSETFROM:+0200
TZOFFSETTO:+0300
TZNAME:EEST
DTSTART:19700329T030000
RRULE:FREQ=YEARLY;BYMONTH=3;BYDAY=-1SU
END:DAYLIGHT
BEGIN:STANDARD
TZOFFSETFROM:+0300
TZOFFSETTO:+0200
TZNAME:EET
DTSTART:19701025T040000
RRULE:FREQ=YEARLY;BYMONTH=10;BYDAY=-1SU
END:STANDARD
END:VTIMEZONE
BEGIN:VEVENT
UID:1982923:Event:111077
DTSTAMP:20260420T074518Z
SUMMARY:Diminuita
DESCRIPTION:Oι DIMINUITA The swing trio ξεκινούν τις εμ
 ανίσεις της νέας σεζόνστο TIKI BAR την Κυ
 ιακή 25/9/2011 στις 21.30!Με αρχή το 2007, οι DIMIN
 UITA κινούνται στο χώρο του ορχηστρικού 
 swing, με αναφορές στο πρωτοποριακό Hot Club 
 ερμηνεύοντας  διασκευές των Django Reinhardt-
 Stephane Grappelli, αλλά και άλλων συνθετών της
  εποχής.Επίσης  παρουσιάζουν τον πρώτ
  τους δίσκο που κυκλοφόρησε τον περασ
 ένο Μάιο με τίτλο “a-rhythmology”.Έμφαση δί
 νεται στο φυσικό ακουστικό ήχο αλλά κα
 ι στην αυτοσχεδιαστική ελευθερία των 
 ουσικών, τόσο χαρακτηριστική, ευδιάκρ
 ιτη, αλλά και απόλυτη σ’ όλες της μορφ
 ς της τζαζ.Με τον αέρα του swing, και επιρ
 ροες από το bebop σε συνδυασμό με τους ρυ
 μικούς ελιγμούς του σχήματος.Γιώργος 
 Παπαδογιάνης κιθάρα, σύνθεση, ενορχήσ
 ρωσηΈφη Σαράντη κιθάραΚώστας Αρσένης
  κοντραμπάσο\n\nFor more information visit https://blues.gr
 /events/diminuita
DTSTART;TZID=Europe/Athens:20110925T213000
DTEND;TZID=Europe/Athens:20110925T233000
CATEGORIES:live
LOCATION:Tiki Athens
WEBSITE:http://www.diminuita.com
URL:http://www.diminuita.com
CONTACT:210 9236908
ORGANIZER:Tiki
ATTACH;FMTTYPE="image/jpeg":http://storage.ning.com/topology/rest/1.0/
 file/get/2252954781?profile=original
ATTENDEE;ROLE=REQ-PARTICIPANT;PARTSTAT=ACCEPTED;RSVP=TRUE;CN="Music Ne
 twork by Michael Limnios":https://blues.gr/profile/MichalisLimnios
END:VEVENT
END:VCALENDAR
