BEGIN:VCALENDAR
PRODID:NingEventWidget-v1
VERSION:2.0
METHOD:PUBLISH
BEGIN:VTIMEZONE
TZID:Europe/Athens
X-LIC-LOCATION:Europe/Athens
BEGIN:DAYLIGHT
TZOFFSETFROM:+0200
TZOFFSETTO:+0300
TZNAME:EEST
DTSTART:19700329T030000
RRULE:FREQ=YEARLY;BYMONTH=3;BYDAY=-1SU
END:DAYLIGHT
BEGIN:STANDARD
TZOFFSETFROM:+0300
TZOFFSETTO:+0200
TZNAME:EET
DTSTART:19701025T040000
RRULE:FREQ=YEARLY;BYMONTH=10;BYDAY=-1SU
END:STANDARD
END:VTIMEZONE
BEGIN:VEVENT
UID:1982923:Event:87632
DTSTAMP:20260421T210937Z
SUMMARY:Dr. Albert Flipout's one CAN band THE SHOW
DESCRIPTION:\nFriday the 21st and Saturday the 22nd of January, Mickey
  and I are gonna becelebrating my birthday (On Fridaythe 21st I'm gonn
 a be 98 years old)by doing the show about my life through a century of
  blues based American musicfor the very last time. And of course we're
  gonna be playing songs from our newCD \"Can't find my pills\".I hope 
 you will join us and share a piece of birthday cake with us. THESHOW S
 TARTS 22:00 SHARP!!!!!\nFREE ENTRANCE......................\n\nFor mor
 e information visit https://blues.gr/events/dr-albert-flipouts-one-can
 -5
DTSTART;TZID=Europe/Athens:20110122T000000
DTEND;TZID=Europe/Athens:20110122T235900
CATEGORIES:performance
LOCATION:Friday the 21st and Saturday the 22nd of January, Mickey and 
 I are gonna be celebrating my birthday (On Friday the 21st I'm gonna b
 e 98 years old) by doing the show about my life through a century of b
 lues based American music for the very last time. And
WEBSITE:http://cafealavastron.gr
URL:http://cafealavastron.gr
CONTACT:
ORGANIZER;CN="Dr. Albert Flipout one CAN band":https://blues.gr/profil
 e/DrAlbertFlipoutoneCANband
ATTACH;FMTTYPE="image/jpeg":http://storage.ning.com/topology/rest/1.0/
 file/get/2252947762?profile=original
ATTENDEE;ROLE=REQ-PARTICIPANT;PARTSTAT=ACCEPTED;RSVP=TRUE;CN=Lia:https
 ://blues.gr/profile/Lia
ATTENDEE;ROLE=REQ-PARTICIPANT;PARTSTAT=ACCEPTED;RSVP=TRUE;CN="Dr. Albe
 rt Flipout one CAN band":https://blues.gr/profile/DrAlbertFlipoutoneCA
 Nband
END:VEVENT
END:VCALENDAR
