BEGIN:VCALENDAR
PRODID:NingEventWidget-v1
VERSION:2.0
METHOD:PUBLISH
BEGIN:VTIMEZONE
TZID:Europe/Athens
X-LIC-LOCATION:Europe/Athens
BEGIN:DAYLIGHT
TZOFFSETFROM:+0200
TZOFFSETTO:+0300
TZNAME:EEST
DTSTART:19700329T030000
RRULE:FREQ=YEARLY;BYMONTH=3;BYDAY=-1SU
END:DAYLIGHT
BEGIN:STANDARD
TZOFFSETFROM:+0300
TZOFFSETTO:+0200
TZNAME:EET
DTSTART:19701025T040000
RRULE:FREQ=YEARLY;BYMONTH=10;BYDAY=-1SU
END:STANDARD
END:VTIMEZONE
BEGIN:VEVENT
UID:1982923:Event:77729
DTSTAMP:20260419T204747Z
SUMMARY:Dr. Albert Flipout's one CAN band.....The Show!
DESCRIPTION:Dr. Albert Flipout's story, through a century of Blues bas
 ed American Music!!!\nIt's Free, it's Fun and there is loads of good m
 usic. From Blind Lemon Jefferson to the White Stripes. One man, One CA
 N, One Band. This Thursday and every Thursday in November!!!! See Ya!!
 !\n\nFor more information visit https://blues.gr/events/dr-albert-flip
 outs-one-can
DTSTART;TZID=Europe/Athens:20101104T220000
DTEND;TZID=Europe/Athens:20101105T010000
CATEGORIES:music, performance
LOCATION:Cafe Alavastron
WEBSITE:
URL:
CONTACT:
ORGANIZER;CN="Dr. Albert Flipout one CAN band":https://blues.gr/profil
 e/DrAlbertFlipoutoneCANband
ATTACH;FMTTYPE="image/jpeg":http://storage.ning.com/topology/rest/1.0/
 file/get/2252944526?profile=original
ATTENDEE;ROLE=REQ-PARTICIPANT;PARTSTAT=ACCEPTED;RSVP=TRUE;CN="Dr. Albe
 rt Flipout one CAN band":https://blues.gr/profile/DrAlbertFlipoutoneCA
 Nband
END:VEVENT
END:VCALENDAR
