BEGIN:VCALENDAR
PRODID:NingEventWidget-v1
VERSION:2.0
METHOD:PUBLISH
BEGIN:VTIMEZONE
TZID:Europe/Athens
X-LIC-LOCATION:Europe/Athens
BEGIN:DAYLIGHT
TZOFFSETFROM:+0200
TZOFFSETTO:+0300
TZNAME:EEST
DTSTART:19700329T030000
RRULE:FREQ=YEARLY;BYMONTH=3;BYDAY=-1SU
END:DAYLIGHT
BEGIN:STANDARD
TZOFFSETFROM:+0300
TZOFFSETTO:+0200
TZNAME:EET
DTSTART:19701025T040000
RRULE:FREQ=YEARLY;BYMONTH=10;BYDAY=-1SU
END:STANDARD
END:VTIMEZONE
BEGIN:VEVENT
UID:1982923:Event:57469
DTSTAMP:20260424T092104Z
SUMMARY:DreamBoatAnnie live at After Dark
DESCRIPTION:Oι DreamBoatAnnie παρουσιάζουν ένα ανα
 εωμένο δυναμικό ροκ σετ στο After Dark, στο
  κέντρο της Αθήνας, Διδότου 31 & Ιπποκρά
 ους\n(τηλέφωνο: 210-3606460, www.afterdark.gr).\nαύρι
  Κυριακή 6 Ιουνίου και ώρα 10 μ.μ.\n'Οπως 
 αι σε όλες τις προηγούμενες εμφανίσει
 ς μας, σε καμιά περίπτωση δεν υποσχόμα
 τε μουσική lounge.\nΚαι μην ξεχνάτε: η οικ
 νομική κατοχή της χώρας σας δίνει σοβ
 ρά επιχειρήματα για να υποστηρίζετε τ
 α ερασιτεχνικά μουσικά σύνολα: προσφέ
 ουμε value for money - και είμαστε και πιο προ
 σιτοί στο ακροατήριο από τους επηρμέν
 υς ροκ σταρ.\n\nFor more information visit https://blues.gr/
 events/dreamboatannie-live-at-after-1
DTSTART;TZID=Europe/Athens:20100606T220000
DTEND;TZID=Europe/Athens:20100607T020000
CATEGORIES:live, gig
LOCATION:After Dark live club
WEBSITE:http://www.afterdark.gr
URL:http://www.afterdark.gr
CONTACT:210-3606460
ORGANIZER;CN="George \"Whiskey\" Stefanakis":https://blues.gr/profile/
 GeorgeStefanakis
ATTACH;FMTTYPE="image/jpeg":http://storage.ning.com/topology/rest/1.0/
 file/get/2252942845?profile=original
ATTENDEE;ROLE=REQ-PARTICIPANT;PARTSTAT=ACCEPTED;RSVP=TRUE;CN="George \
 "Whiskey\" Stefanakis":https://blues.gr/profile/GeorgeStefanakis
END:VEVENT
END:VCALENDAR
