BEGIN:VCALENDAR
PRODID:NingEventWidget-v1
VERSION:2.0
METHOD:PUBLISH
BEGIN:VTIMEZONE
TZID:Europe/Athens
X-LIC-LOCATION:Europe/Athens
BEGIN:DAYLIGHT
TZOFFSETFROM:+0200
TZOFFSETTO:+0300
TZNAME:EEST
DTSTART:19700329T030000
RRULE:FREQ=YEARLY;BYMONTH=3;BYDAY=-1SU
END:DAYLIGHT
BEGIN:STANDARD
TZOFFSETFROM:+0300
TZOFFSETTO:+0200
TZNAME:EET
DTSTART:19701025T040000
RRULE:FREQ=YEARLY;BYMONTH=10;BYDAY=-1SU
END:STANDARD
END:VTIMEZONE
BEGIN:VEVENT
UID:1982923:Event:54811
DTSTAMP:20260420T213021Z
SUMMARY:DreamBoatAnnie ζωντανά στη Γυάλα
DESCRIPTION:οι DreamBoatAnnie παρουσιάζουν ένα ανα
 νεωμένο δυναμικό ροκ σετ στη μουσική σ
 κηνή Γυάλα.\nείναι η πρώτη μας συνεργασ
 ία με τη συγκεκριμένη σκηνή, που βρίσκ
 ται αρκετά κοντά στο κέντρο, στον Ταύρ
 ο, στο ύψος της Πειραιώς 204 - λίγο μετά τ
 η Χαμοστέρνας - και στη γωνία των οδών 
 ακεδονίας και Χρυσοστόμου Σμύρνης.\nό
 οι μετακινούνται με αυτοκίνητο δεν θα
  χρειαστεί να γυρίζουν με τις ώρες για 
 πάρκινγκ - όπως π.χ. στο Γκάζι.\nγια όσου
 ς δεν είναι δεινοί χορευτές υπάρχει τη
 λέφωνο κρατήσεων: 210-3424249\nπαρά το γεγον
 ός ότι σε καμιά περίπτωση δεν υποσχόμα
 στε μουσική lounge!\nκαι θυμηθείτε: τώρα μ
  την οικονομική κατοχή της χώρας έχετ
  κάθε λόγο να υποστηρίξετε τα ερασιτε
 νικά μουσικά σύνολα: κοστίζουμε 6 φορέ
 ς λιγότερο από τους Aerosmith, χωρίς κατ' αν
 άγκη να παίζουμε 6 φορές χειρότερα! για
  τους εγχώριους καλλιτέχνες της πίστα
  δεν συζητάμε καν.\n\nFor more information visit https:
 //blues.gr/events/dreamboatannie-zontanha-ste
DTSTART;TZID=Europe/Athens:20100508T230000
DTEND;TZID=Europe/Athens:20100509T030000
CATEGORIES:live, gig
LOCATION:Γυάλα live stage
WEBSITE:
URL:
CONTACT:210-3424249
ORGANIZER;CN="George \"Whiskey\" Stefanakis":https://blues.gr/profile/
 GeorgeStefanakis
ATTACH;FMTTYPE="image/jpeg":http://storage.ning.com/topology/rest/1.0/
 file/get/2252941005?profile=original
ATTENDEE;ROLE=REQ-PARTICIPANT;PARTSTAT=ACCEPTED;RSVP=TRUE;CN="George \
 "Whiskey\" Stefanakis":https://blues.gr/profile/GeorgeStefanakis
END:VEVENT
END:VCALENDAR
