BEGIN:VCALENDAR
PRODID:NingEventWidget-v1
VERSION:2.0
METHOD:PUBLISH
BEGIN:VTIMEZONE
TZID:Europe/Athens
X-LIC-LOCATION:Europe/Athens
BEGIN:DAYLIGHT
TZOFFSETFROM:+0200
TZOFFSETTO:+0300
TZNAME:EEST
DTSTART:19700329T030000
RRULE:FREQ=YEARLY;BYMONTH=3;BYDAY=-1SU
END:DAYLIGHT
BEGIN:STANDARD
TZOFFSETFROM:+0300
TZOFFSETTO:+0200
TZNAME:EET
DTSTART:19701025T040000
RRULE:FREQ=YEARLY;BYMONTH=10;BYDAY=-1SU
END:STANDARD
END:VTIMEZONE
BEGIN:VEVENT
UID:1982923:Event:110577
DTSTAMP:20260422T060754Z
SUMMARY:Dull Days &  Dr. Albert Flipout's One Can Band feat. Mickey Pa
 ntelous
DESCRIPTION:Οι Dull Days σας προσκαλούν να γιορτ
 άσετε μαζί τους δύο σημαντικά γεγονότ
 : την κυκλοφορία του πρώτου τους EP με τ
 ίτλο 'Blues Crash' και την συμπλήρωση ενός χ
 όνου από το ξεκίνημά τους.\nΗ βραδυά θα
  ξεκινήσει δυναμικά με τον Mickey Pantelous and 
 the One Can Band ακολουθούμενος από τον « φίλ
  κ συνεργάτη » του Dr.Albert Flipout. Με μεγάλη
  εμπειρία στα μπλουζ, τη τζαζ και τη ρο
  μουσική θα μας ταξιδεύσει, με αφορμή 
 ην προσωπική κωμικοτραγική ιστορία τ
 υ συνοδοιπόρου του δόκτορα Flipout στην α
 μερικάνικη μουσική και ιστορία, με ανα
 φορές σε όλο τον 20ο αιώνα έως τις μέρες
  μας.     Οι πόρτες θα ανοίξουν στις 10.30
  μ.μ, το εισιτήριο θα κοστίζει 6 ευρώ κα
  η πρώτη μπύρα σας θα είναι κέρασμα απ
  τους εορτάζοντες. Οι 30 πρώτοι θα πάρο
 ν επιπλέον δώρο, το νεοκυκλοφόρητο EP 'B
 lues Crash'.\n            Μετά το live θα ακολο
 θήσει after-party στο La Poderosa Cafe-Bar( Ασκληπιο
  41 & Βαλτετσίου ) . Dull Days:Δημήτρης Πάλλη
  : Bass guitarsκωστας γ        : VoicePanos  D    
     : GuitarsSkarp           : DrumsToliban       
   : Guitars\n\nFor more information visit https://blues.gr/events/dul
 l-days-dr-albert-flipout-s-one-can-band-feat-mickey-pantelous
DTSTART;TZID=Europe/Athens:20110922T223000
DTEND;TZID=Europe/Athens:20110923T020000
CATEGORIES:ep, release, "&", concert
LOCATION:After Dark
WEBSITE:http://www.myspace.com/dulldays
URL:http://www.myspace.com/dulldays
CONTACT:210-3606460
ORGANIZER:After Dark
ATTACH;FMTTYPE="image/jpeg":http://storage.ning.com/topology/rest/1.0/
 file/get/2252954490?profile=original
ATTENDEE;ROLE=REQ-PARTICIPANT;PARTSTAT=ACCEPTED;RSVP=TRUE;CN="Music Ne
 twork by Michael Limnios":https://blues.gr/profile/MichalisLimnios
END:VEVENT
END:VCALENDAR
