BEGIN:VCALENDAR
PRODID:NingEventWidget-v1
VERSION:2.0
METHOD:PUBLISH
BEGIN:VTIMEZONE
TZID:Europe/Athens
X-LIC-LOCATION:Europe/Athens
BEGIN:DAYLIGHT
TZOFFSETFROM:+0200
TZOFFSETTO:+0300
TZNAME:EEST
DTSTART:19700329T030000
RRULE:FREQ=YEARLY;BYMONTH=3;BYDAY=-1SU
END:DAYLIGHT
BEGIN:STANDARD
TZOFFSETFROM:+0300
TZOFFSETTO:+0200
TZNAME:EET
DTSTART:19701025T040000
RRULE:FREQ=YEARLY;BYMONTH=10;BYDAY=-1SU
END:STANDARD
END:VTIMEZONE
BEGIN:VEVENT
UID:1982923:Event:74409
DTSTAMP:20260419T155128Z
SUMMARY:EDDIE C. CAMPBELL  live Αθήνα από 15 μέχρι 21/10/
 2010
DESCRIPTION:EDDIE C. CAMPBELL - 15/10/2010 - 21/10/2010\n\n\ncopy απ
 ό www.halfnote.gr:\nEddie C. Campbell: φωνή, κιθάρα\nJean P
 ierre Duarte: κιθάρα\nChristophe Garreau: μπάσο\nLudovic Bi
 net: όργανο\nPascal Mucci: ντραμς\n\nΧωρίς υπερβ
 ολή, ο Eddie C. Cambell είναι η επιτομή του κλα
 σικού μπλουζ του Σικάγου – αυτού που ο
  κόσμος γνώρισε από την τέχνη του Magic Sam
 , του Willie Dixon, του Little Walter και άλλων, με τ
 ους οποίους ο Eddie είχε την τύχει να γνω
 ιστεί, να παίξει και να μάθει από αυτο
 ς... www.halfnote.gr\n\nFor more information visit https://blues.gr/
 events/eddie-c-campbell-live-athhena
DTSTART;TZID=Europe/Athens:20101015T210000
DTEND;TZID=Europe/Athens:20101021T210000
CATEGORIES:live
LOCATION:Athens, Half Note
WEBSITE:http://www.halfnote.gr/parastasi.php?fun=enlarge&p_id=428
URL:http://www.halfnote.gr/parastasi.php?fun=enlarge&p_id=428
CONTACT:
ORGANIZER:Half Note
ATTACH;FMTTYPE="image/jpeg":
ATTENDEE;ROLE=REQ-PARTICIPANT;PARTSTAT=ACCEPTED;RSVP=TRUE;CN="Tsiamtsi
 kas Nikolaos":https://blues.gr/profile/TsiamtsikasNikolaos
ATTENDEE;ROLE=REQ-PARTICIPANT;PARTSTAT=ACCEPTED;RSVP=TRUE;CN="tony dol
 laro":https://blues.gr/profile/tonydollaro
ATTENDEE;ROLE=REQ-PARTICIPANT;PARTSTAT=TENTATIVE;RSVP=TRUE;CN=Costas:h
 ttps://blues.gr/profile/Costas
END:VEVENT
END:VCALENDAR
