BEGIN:VCALENDAR
PRODID:NingEventWidget-v1
VERSION:2.0
METHOD:PUBLISH
BEGIN:VTIMEZONE
TZID:Europe/Athens
X-LIC-LOCATION:Europe/Athens
BEGIN:DAYLIGHT
TZOFFSETFROM:+0200
TZOFFSETTO:+0300
TZNAME:EEST
DTSTART:19700329T030000
RRULE:FREQ=YEARLY;BYMONTH=3;BYDAY=-1SU
END:DAYLIGHT
BEGIN:STANDARD
TZOFFSETFROM:+0300
TZOFFSETTO:+0200
TZNAME:EET
DTSTART:19701025T040000
RRULE:FREQ=YEARLY;BYMONTH=10;BYDAY=-1SU
END:STANDARD
END:VTIMEZONE
BEGIN:VEVENT
UID:1982923:Event:490740
DTSTAMP:20260419T181025Z
SUMMARY:Eliana One Woman Band
DESCRIPTION:Eliana One Woman Band, το Σάββατο 30 Δεκεμβ
 ρίου 2023, live στη σκηνή της Αντίθεσης! Ώρ
  προσέλευσης 19:30  Έναρξη 20:00 Είσοδος ελ
 εύθερη  Λιοσίων 216 1ος όροφος\r\n Η Πειρα
 ματική Καλλιτεχνική Σκηνή Αντίθεση (Α
 .Α.Σ.Α – ΛΕ.Φ.ΚΑ), δημιουργήθηκε με σκοπ
 ό την ύπαρξη μιας πραγματικά ελεύθερη
  καλλιτεχνικής σκηνής. \r\n Έχοντας πάν
 τα ως αρχή την έκφραση των καλλιτεχνικ
 ών μας ανησυχιών, πειραματιστήκαμε σε 
 πολλούς τομείς της τέχνης, άλλοτε στήν
 οντας θεατρικές παραστάσεις, άλλοτε δ
 οργανώνοντας κινηματογραφικές βραδι
 ς ή δημιουργώντας μικρά ερασιτεχνικά 
 video. \r\n Ιδιαίτερα όμως στον χώρο της μο
 υσικής, από το 1995 μέχρι σήμερα, στηρίζο
 υμε έμπρακτα την ύπαρξη μιας αληθινής 
 μουσικής σκηνής στην Αθήνα. \r\n Διαπισ
 ώσαμε ότι οι χορηγοί, το κέρδος, ο εγωι
 σμός, οι ειδήμονες, είναι κάποιες από τ
 ις βασικές αιτίες που οδήγησαν στην απ
 οτυχία αρκετών καλλιτεχνικών εγχειρη
 άτων για ελεύθερη έκφραση.   Έτσι λοιπ
 όν, τον Αύγουστο του 2013, η ΛΕ.Φ.ΚΑ και η 
 Ν.Α.Σ.Α ενώνοντας τις εμπειρίες και τι
  δυνάμεις τους μαζί με άλλους με το ίδ
 ο όραμα για ελεύθερη και αδέσμευτη έκ
 ραση, προχώρησαν στη δημιουργία της Α
 τίθεσης, μιας Πειραματικής Καλλιτεχν
 κής Σκηνής, όπου δε χωρούν οι χορηγοί, 
 οι μάνατζερ, οι ειδήμονες και οι αρχηγ
 ί, όπου η ανάδειξη και η προτροπή της ε
 λεύθερης σκέψης και δημιουργίας είναι
  το ζητούμενο, με όπλα μας τη συλλογική
  προσπάθεια, τον αμοιβαίο σεβασμό, το μ
 οίρασμα και τη δημιουργία ανθρώπινων 
 χέσεων, μακριά από κάθε είδους εκμετά
 λευση, και επιπλέον, μακριά από φασίζο
 υσες νοοτροπίες. Πώς άλλωστε θα\r\nμπορ
 ύσε ο φασισμός και ο ρατσισμός να έχου
 ν σχέση με οποιαδήποτε μορφή τέχνης; \r\
 n Στην Αντίθεση είναι καλοδεχούμενος, 
 οποιοσδήποτε ανήσυχος άνθρωπος θέλει 
 να παλέψει μαζί με άλλους, για τον κοιν
 ό αυτό στόχο.\r\n\r\n\n\nFor more information visit https://
 blues.gr/events/eliana-one-woman-band-1
DTSTART;TZID=Europe/Athens:20231230T000000
DTEND;TZID=Europe/Athens:20231230T235900
CATEGORIES:blues, rock, folk
LOCATION:Αντίθεση
WEBSITE:https://antithesi2013.blogspot.com
URL:https://antithesi2013.blogspot.com
CONTACT:
ORGANIZER:Αντίθεση / ΛΕΦΚΑ
ATTACH;FMTTYPE="image/jpeg":https://storage.ning.com/topology/rest/1.0
 /file/get/12337922059?profile=original
ATTENDEE;ROLE=REQ-PARTICIPANT;PARTSTAT=ACCEPTED;RSVP=TRUE;CN="Music Ne
 twork by Michael Limnios":https://blues.gr/profile/MichalisLimnios
END:VEVENT
END:VCALENDAR
