BEGIN:VCALENDAR
PRODID:NingEventWidget-v1
VERSION:2.0
METHOD:PUBLISH
BEGIN:VTIMEZONE
TZID:Europe/Athens
X-LIC-LOCATION:Europe/Athens
BEGIN:DAYLIGHT
TZOFFSETFROM:+0200
TZOFFSETTO:+0300
TZNAME:EEST
DTSTART:19700329T030000
RRULE:FREQ=YEARLY;BYMONTH=3;BYDAY=-1SU
END:DAYLIGHT
BEGIN:STANDARD
TZOFFSETFROM:+0300
TZOFFSETTO:+0200
TZNAME:EET
DTSTART:19701025T040000
RRULE:FREQ=YEARLY;BYMONTH=10;BYDAY=-1SU
END:STANDARD
END:VTIMEZONE
BEGIN:VEVENT
UID:1982923:Event:315323
DTSTAMP:20260420T141632Z
SUMMARY:ERIC BURDON and The Animals
DESCRIPTION:Ο θρύλος του ροκ, η ψυχή των Animals,
  το είδωλο των '60s, η κινητήριος δύναμη 
 ης περίφημης British Invasion, ο πρωτοπόρος τ
 ς ψυχεδελικής σκηνής του San Francisco, ένας
  από τους σπουδαιότερους ήρωες του rock '
 n' roll, ο αειθαλής Eric Burdon, θα βρεθεί στο Η
 ώδειο την Παρασκευή 27 Σεπτεμβρίου για
  να μας αφηγηθεί με τη βαθιά φωνή του τ
 ς ροκ ιστορίες της ζωής του.\r\nΤα λόγια
  δεν αρκούν για να περιγράψουν μία από 
 τις σπουδαιότερες μορφές της μουσικής
  ιστορίας του 20ού αιώνα που, ακούραστη,
  συνεχίζει την πορεία της και στον 21ο.\r
 \nΟ Eric Burdon δεν είναι ένας συνηθισμένος 
 αλλιτέχνης. Τραγουδιστής, στιχουργός,
  συγγραφέας, ζωγράφος και ενίοτε ηθοπο
 ιός, μέλος του Rock 'n' Roll Hall of Fame από το 1994 
 και ανάμεσα στους καλύτερους τραγουδι
 στές όλων των εποχών σύμφωνα με το Rolling
  Stone, μετρά πάρα πολλά επιτεύγματα στα 6
 0 χρόνια καριέρας του.\r\nΦώτο: Marianna Proestou
  - Burdon\r\n\r\n\n\nFor more information visit https://blues.gr/event
 s/eric-burdon-and-the-animals
DTSTART;TZID=Europe/Athens:20190927T000000
DTEND;TZID=Europe/Athens:20190927T235900
CATEGORIES:blues, rock
LOCATION:Ωδείο Ηρώδου Αττικού
WEBSITE:
URL:
CONTACT:
ORGANIZER:
ATTACH;FMTTYPE="image/jpeg":https://storage.ning.com/topology/rest/1.0
 /file/get/3322289809?profile=original
ATTENDEE;ROLE=REQ-PARTICIPANT;PARTSTAT=ACCEPTED;RSVP=TRUE;CN="Music Ne
 twork by Michael Limnios":https://blues.gr/profile/MichalisLimnios
END:VEVENT
END:VCALENDAR
