BEGIN:VCALENDAR
PRODID:NingEventWidget-v1
VERSION:2.0
METHOD:PUBLISH
BEGIN:VTIMEZONE
TZID:Europe/Athens
X-LIC-LOCATION:Europe/Athens
BEGIN:DAYLIGHT
TZOFFSETFROM:+0200
TZOFFSETTO:+0300
TZNAME:EEST
DTSTART:19700329T030000
RRULE:FREQ=YEARLY;BYMONTH=3;BYDAY=-1SU
END:DAYLIGHT
BEGIN:STANDARD
TZOFFSETFROM:+0300
TZOFFSETTO:+0200
TZNAME:EET
DTSTART:19701025T040000
RRULE:FREQ=YEARLY;BYMONTH=10;BYDAY=-1SU
END:STANDARD
END:VTIMEZONE
BEGIN:VEVENT
UID:1982923:Event:266448
DTSTAMP:20260423T120719Z
SUMMARY:Eric Gales
DESCRIPTION:Eric Gales grew up in a musical family with four brothers,
  two of them who learned to play the guitar upside down and left hande
 d in the same fashion that Eric does. Eric’s brother Eugene Gales pl
 ayed bass in the Eric Gales Band and his brother Little Jimmy King had
  a thriving career as a blues artist before his untimely death. Eric r
 eleased his first record at age 16 for Elektra records to an amazing r
 esponse from the media and music fans around the globe. Guitar World M
 agazine’s Reader’s Poll named Eric as “Best New Talent,” in 19
 91. After recording a second record for Elektra, all three brothers te
 amed up for The Gales Bros.\r\nAs both an African-American left-handed
  guitarist of extraordinary ability and an expressive vocalist, it is 
 natural for people to compare Eric to Hendrix but Eric has developed a
  unique hybrid blues/rock sound that also draws upon influences as div
 erse as Albert King and Eric Johnson. A unique amalgam of styles, Eric
  Gales stands head and shoulders among other guitarists in his genre. 
 His brand new album titled \"Middle Of The Road\" (2018) with special 
 guests!\r\n\n\nFor more information visit https://blues.gr/events/eric
 -gales-1
DTSTART;TZID=Europe/Athens:20181125T000000
DTEND;TZID=Europe/Athens:20181125T235900
CATEGORIES:blues, rock
LOCATION:Stavros Tou Notou
WEBSITE:http://menta3.com/el/
URL:http://menta3.com/el/
CONTACT:210 9226975
ORGANIZER:Menta ART Events
ATTACH;FMTTYPE="image/jpeg":http://storage.ning.com/topology/rest/1.0/
 file/get/2253058839?profile=original
ATTENDEE;ROLE=REQ-PARTICIPANT;PARTSTAT=ACCEPTED;RSVP=TRUE;CN="Music Ne
 twork by Michael Limnios":https://blues.gr/profile/MichalisLimnios
END:VEVENT
END:VCALENDAR
