BEGIN:VCALENDAR
PRODID:NingEventWidget-v1
VERSION:2.0
METHOD:PUBLISH
BEGIN:VTIMEZONE
TZID:Europe/Athens
X-LIC-LOCATION:Europe/Athens
BEGIN:DAYLIGHT
TZOFFSETFROM:+0200
TZOFFSETTO:+0300
TZNAME:EEST
DTSTART:19700329T030000
RRULE:FREQ=YEARLY;BYMONTH=3;BYDAY=-1SU
END:DAYLIGHT
BEGIN:STANDARD
TZOFFSETFROM:+0300
TZOFFSETTO:+0200
TZNAME:EET
DTSTART:19701025T040000
RRULE:FREQ=YEARLY;BYMONTH=10;BYDAY=-1SU
END:STANDARD
END:VTIMEZONE
BEGIN:VEVENT
UID:1982923:Event:264518
DTSTAMP:20260424T231252Z
SUMMARY:European Blues Challenge 2019 - Portugal
DESCRIPTION:----- Announcement ----- European Blues Union - Greece Nat
 ional Blues Challenge 2018 We are kindly requesting all the bands and 
 musicians who want to participate at the 9th European Blues Challenge 
 (EBC) 2019 in Azores, Portugal (April 4-6, 2019) either as a Full Band
 , either as a Duet, either as a solo artist, to forward up a demo MP3 
 with original or cover material, link with video, and bio into the fac
 ebook page’s inbox .\r\nBefore you send anything, please be sure th
 at you have red all the EBC rules, guidelines and regulations. The sub
 mission deadline for all the applicants is July 1st, 2018. Greece - EB
 U http://www.europeanbluesunion.com/ebc-rules/\r\n\n\nFor more informa
 tion visit https://blues.gr/events/european-blues-challege-2019-portug
 al
DTSTART;TZID=Europe/Athens:20190404T000000
DTEND;TZID=Europe/Athens:20190406T235900
CATEGORIES:challenge, blues
LOCATION:Ponta Delgada - S. Miguel, Azores Portugal
WEBSITE:
URL:
CONTACT:
ORGANIZER:European Blues Union
ATTACH;FMTTYPE="image/jpeg":http://storage.ning.com/topology/rest/1.0/
 file/get/2253058395?profile=original
ATTENDEE;ROLE=REQ-PARTICIPANT;PARTSTAT=ACCEPTED;RSVP=TRUE;CN="Music Ne
 twork by Michael Limnios":https://blues.gr/profile/MichalisLimnios
ATTENDEE;ROLE=REQ-PARTICIPANT;PARTSTAT=TENTATIVE;RSVP=TRUE;CN="Dimitri
 s Ioannou":https://blues.gr/profile/DimitrisIoannou
END:VEVENT
END:VCALENDAR
