BEGIN:VCALENDAR
PRODID:NingEventWidget-v1
VERSION:2.0
METHOD:PUBLISH
BEGIN:VTIMEZONE
TZID:Europe/Athens
X-LIC-LOCATION:Europe/Athens
BEGIN:DAYLIGHT
TZOFFSETFROM:+0200
TZOFFSETTO:+0300
TZNAME:EEST
DTSTART:19700329T030000
RRULE:FREQ=YEARLY;BYMONTH=3;BYDAY=-1SU
END:DAYLIGHT
BEGIN:STANDARD
TZOFFSETFROM:+0300
TZOFFSETTO:+0200
TZNAME:EET
DTSTART:19701025T040000
RRULE:FREQ=YEARLY;BYMONTH=10;BYDAY=-1SU
END:STANDARD
END:VTIMEZONE
BEGIN:VEVENT
UID:1982923:Event:105664
DTSTAMP:20260425T171808Z
SUMMARY:European Music Day 2011
DESCRIPTION:21st of June – European Music Day - Summer Solstice and 
 Music is celebrating. Year by year European Music Day is establishing 
 more and more events all over Greece. The idea is catching on!...\nWe 
 hope that one day on the 21st of June, we will hear music everywhere, 
 on every corner, every square, every street, every concert location an
 d every park. All kinds of artists and all kinds of music along with c
 rowds will dance in the streets and displace the cars. Schools, conser
 vatories and every organisation that is familiar with the magic of a 
 musical-score” will organise their own concerts.\nIn France the st
 ate has passed an act that allows (music) noise disturbance on the spe
 cific day, why not in Greece as well? Upcoming Greek and foreign bands
  will play in public spaces throughout Greece and artist exchanges fro
 m city to city and country to country will multiply and we will all di
 scover a previously unknown group.\nEuropean Music Day is working for 
 a dream come true sooner or later. This is why it organizes with the s
 upport of public, state, private sponsors and institutions, as many as
  possible music performances all over Greece. The events are always fr
 ee and artists perform free of charge or with minimum compensation. Be
 cause when music celebrates we‘re all invited…!\nInfo: http://www.
 europeanmusicday.gr/\n \n\n\nFor more information visit https://blues
 .gr/events/european-music-day-2011
DTSTART;TZID=Europe/Athens:20110619T000000
DTEND;TZID=Europe/Athens:20110621T235900
CATEGORIES:festival
LOCATION:Various locations
WEBSITE:http://europeanmusicday.gr/
URL:http://europeanmusicday.gr/
CONTACT:210 9767620
ORGANIZER:Μ.Ε.Σ.Ο.
ATTACH;FMTTYPE="image/jpeg":http://storage.ning.com/topology/rest/1.0/
 file/get/2252951325?profile=original
ATTENDEE;ROLE=REQ-PARTICIPANT;PARTSTAT=ACCEPTED;RSVP=TRUE;CN="Music Ne
 twork by Michael Limnios":https://blues.gr/profile/MichalisLimnios
END:VEVENT
END:VCALENDAR
