BEGIN:VCALENDAR
PRODID:NingEventWidget-v1
VERSION:2.0
METHOD:PUBLISH
BEGIN:VTIMEZONE
TZID:Europe/Athens
X-LIC-LOCATION:Europe/Athens
BEGIN:DAYLIGHT
TZOFFSETFROM:+0200
TZOFFSETTO:+0300
TZNAME:EEST
DTSTART:19700329T030000
RRULE:FREQ=YEARLY;BYMONTH=3;BYDAY=-1SU
END:DAYLIGHT
BEGIN:STANDARD
TZOFFSETFROM:+0300
TZOFFSETTO:+0200
TZNAME:EET
DTSTART:19701025T040000
RRULE:FREQ=YEARLY;BYMONTH=10;BYDAY=-1SU
END:STANDARD
END:VTIMEZONE
BEGIN:VEVENT
UID:1982923:Event:494440
DTSTAMP:20260420T060835Z
SUMMARY:EXHIBITION - “Bare Dreams” art by Vince Larue
DESCRIPTION:EXHIBITION - “Bare Dreams” art by Vince Larue\r\n Frid
 ay, April 10, 2026\r\nThursday, May 28, 2026\r\nGallery 818 818 Centra
 l Avenue Northwood, IA, 50459 USA\r\n\r\n“Bare Dreams” is black an
 d white pen drawings by Vince Larue.  Where people and places, both re
 al and imaginary meet in the world of French artist Vince Larue. A sel
 f-taught pen and ink artist who’s been drawn to the American Southwe
 st numerous times over 12 years. Also, a long-distance runner with alm
 ost two decades of practice.  It all blends in a bold way through a un
 ique display on view at Gallery 818. You’ll see colors when there ar
 e none, and hear music when there is silence.\r\n\n\nFor more informat
 ion visit https://blues.gr/events/exhibition-bare-dreams-art-by-vince-
 larue
DTSTART;TZID=Europe/Athens:20260410T000000
DTEND;TZID=Europe/Athens:20260528T235900
CATEGORIES:art, painting
LOCATION:Gallery 818
WEBSITE:https://www.artfarmiowa.com/events/lom6rmj2ma2qjxs3fihepec1lo8
 8j9
URL:https://www.artfarmiowa.com/events/lom6rmj2ma2qjxs3fihepec1lo88j9
CONTACT:
ORGANIZER:Gallery 818
ATTACH;FMTTYPE="image/jpeg":https://storage.ning.com/topology/rest/1.0
 /file/get/31003477056?profile=original
ATTENDEE;ROLE=REQ-PARTICIPANT;PARTSTAT=ACCEPTED;RSVP=TRUE;CN="Music Ne
 twork by Michael Limnios":https://blues.gr/profile/MichalisLimnios
END:VEVENT
END:VCALENDAR
