BEGIN:VCALENDAR
PRODID:NingEventWidget-v1
VERSION:2.0
METHOD:PUBLISH
BEGIN:VTIMEZONE
TZID:Europe/Athens
X-LIC-LOCATION:Europe/Athens
BEGIN:DAYLIGHT
TZOFFSETFROM:+0200
TZOFFSETTO:+0300
TZNAME:EEST
DTSTART:19700329T030000
RRULE:FREQ=YEARLY;BYMONTH=3;BYDAY=-1SU
END:DAYLIGHT
BEGIN:STANDARD
TZOFFSETFROM:+0300
TZOFFSETTO:+0200
TZNAME:EET
DTSTART:19701025T040000
RRULE:FREQ=YEARLY;BYMONTH=10;BYDAY=-1SU
END:STANDARD
END:VTIMEZONE
BEGIN:VEVENT
UID:1982923:Event:298926
DTSTAMP:20260420T072328Z
SUMMARY:Fantastic Negrito
DESCRIPTION:Ο Fantastic Negrito είναι μια ξεχωριστή 
 περίπτωση καλλιτέχνη που μέσα από ατε
 είωτες περιπέτειες, είδε ξαφνικά το α
 τέρι του να λάμπει όταν κατάφερε να ξε
 γελάσει το θάνατο και να ακολουθήσει τ
 ο πηγαίο ταλέντο και τις μουσικές των 
 ρογόνων του! Σχεδόν 15 χρόνια μετά από 
 ο συμβόλαιο του ενός εκατομμυρίου με 
 ην Interscope, ένα αποτυχημένο ντεμπούτο ά
 μπουμ, έναν σχεδόν θανάσιμο πυροβολισ
 μό, ένα σχεδόν θανάσιμο ατύχημα, τη γέν
 νηση του γιού του, την «αγροτική ζωή» τ
 ου, ατελείωτες ώρες ερμηνείας στους δρ
 όμους του Oakland, ο Fantastic Negrito ξαναγεννήθη
 κε από τις στάχτες, κυκλοφόρησε 2 άλμπο
 υμ που του χάρισαν 2 συνεχόμενα Grammy για
  το καλύτερο σύγχρονο Blues Album και πλέον 
 χαρίζει απλόχερα τη μουσική του και τα
  μηνύματά της περιοδεύοντας ανά τον κό
 σμο.\r\n\n\nFor more information visit https://blues.gr/events/fant
 astic-negrito
DTSTART;TZID=Europe/Athens:20190620T000000
DTEND;TZID=Europe/Athens:20190620T235900
CATEGORIES:blues
LOCATION:Φεστιβάλ Πηνειού - Λάρισα
WEBSITE:https://www.festivalpineiou.gr/
URL:https://www.festivalpineiou.gr/
CONTACT:
ORGANIZER:Goodheart Productions
ATTACH;FMTTYPE="image/jpeg":https://storage.ning.com/topology/rest/1.0
 /file/get/2740224469?profile=original
ATTENDEE;ROLE=REQ-PARTICIPANT;PARTSTAT=ACCEPTED;RSVP=TRUE;CN="Music Ne
 twork by Michael Limnios":https://blues.gr/profile/MichalisLimnios
END:VEVENT
END:VCALENDAR
