BEGIN:VCALENDAR
PRODID:NingEventWidget-v1
VERSION:2.0
METHOD:PUBLISH
BEGIN:VTIMEZONE
TZID:Europe/Athens
X-LIC-LOCATION:Europe/Athens
BEGIN:DAYLIGHT
TZOFFSETFROM:+0200
TZOFFSETTO:+0300
TZNAME:EEST
DTSTART:19700329T030000
RRULE:FREQ=YEARLY;BYMONTH=3;BYDAY=-1SU
END:DAYLIGHT
BEGIN:STANDARD
TZOFFSETFROM:+0300
TZOFFSETTO:+0200
TZNAME:EET
DTSTART:19701025T040000
RRULE:FREQ=YEARLY;BYMONTH=10;BYDAY=-1SU
END:STANDARD
END:VTIMEZONE
BEGIN:VEVENT
UID:1982923:Event:114191
DTSTAMP:20260420T024922Z
SUMMARY:Fenia And The Not Enough Room To Swing A Cat Band
DESCRIPTION:H Φένια Παπαδόδημα και το δυναμι
 κό τζαζ κουαρτέτο, μας χαρίζουν ένα τα
 ίδι στην χώρα της αυθεντικής jazz μουσι
 ής, μέσα από κομμάτια που αντιπροσωπε
 ουν διαφορετικές περιόδους της ιστορ
 ας της. Από το swing και την mainstream jazz του 
 50 μέχρι τους ηλιγγιώδεις αυτοσχεδιασ
 μούς της  bepop περιόδου.Ένα πρόγραμμα π
 υ κάνει τον ακροατή να ονειροπολήσει 
 αι να γευτεί την ατμόσφαιρα της Ν. Υόρ
 ης όπου αυτή η μουσική γεννήθηκε και ε
 ξελίχτηκε. Σημαντικές αναφορές στις μ
 εγάλες μορφές της μυθολογίας της jazz όπ
 ως η Billie Holiday,η Ella Fitzgerald, ο Thelonius Monk, ο Wayne
  Shorter κα., συνθέτουν ένα ρεπερτόριο μεγ
 λης ποικιλίας και δεξιοτεχνικής ακρο
 ασίας ανάμεσα στα διαφορετικά στυλ το
  οποίο αναδεικνύει η μοναδική ενορχήσ
 ρωση του Σύλβιου Σύρρου (swinging jazz Atheneum)\
 nΚοντραμπάσο - Περικλής Τριβόλης, Πιάν
 ο - Γιώργος Μικρός, Τύμπανα -  Αναστάση
 ς Γούλιαρης, Σαξόφωνο -  Φωτεινός Τσακ
 όπουλος.\n \n\n\nFor more information visit https://blues.gr/e
 vents/fenia-and-the-not-enough-room-to-swing-a-cat-band
DTSTART;TZID=Europe/Athens:20111006T210000
DTEND;TZID=Europe/Athens:20111006T234500
CATEGORIES:live
LOCATION:Cafe Αλάβαστρον
WEBSITE:http://www.cafealavastron.gr/
URL:http://www.cafealavastron.gr/
CONTACT:210-7560102
ORGANIZER:Cafe Αλάβαστρον
ATTACH;FMTTYPE="image/jpeg":http://storage.ning.com/topology/rest/1.0/
 file/get/2252956641?profile=original
ATTENDEE;ROLE=REQ-PARTICIPANT;PARTSTAT=ACCEPTED;RSVP=TRUE;CN="Music Ne
 twork by Michael Limnios":https://blues.gr/profile/MichalisLimnios
END:VEVENT
END:VCALENDAR
