BEGIN:VCALENDAR
PRODID:NingEventWidget-v1
VERSION:2.0
METHOD:PUBLISH
BEGIN:VTIMEZONE
TZID:Europe/Athens
X-LIC-LOCATION:Europe/Athens
BEGIN:DAYLIGHT
TZOFFSETFROM:+0200
TZOFFSETTO:+0300
TZNAME:EEST
DTSTART:19700329T030000
RRULE:FREQ=YEARLY;BYMONTH=3;BYDAY=-1SU
END:DAYLIGHT
BEGIN:STANDARD
TZOFFSETFROM:+0300
TZOFFSETTO:+0200
TZNAME:EET
DTSTART:19701025T040000
RRULE:FREQ=YEARLY;BYMONTH=10;BYDAY=-1SU
END:STANDARD
END:VTIMEZONE
BEGIN:VEVENT
UID:1982923:Event:115774
DTSTAMP:20260420T041959Z
SUMMARY:Fenia Et Les Zazoux
DESCRIPTION:Zazoux, έτσι ονομάζονταν οι φανατι
 οί της jazz στο Παρίσι τη δεκαετία του '50
 .\nΑυτοί που άκουγαν jazz και αυτοσχεδίαζ
 αν μέχρι πρωίας, στα υπόγεια του Saint-\nGer
 main-des-Près.\nΌλοι αυτοί, από τον Django Reinhardt 
 έχρι τον Borris Vian, διαμόρφωσαν ένα νέο μ
 υσικό και λογοτεχνικό κίνημα. Όπως κά
 ε μυθολογία, έτσι και η jazz έχει τους δι
 κούς της ήρωες που παραμένουν ζωντανο
  στη μνήμη των νεότερων και λειτουργο
 ν σαν φάροι για να τους καθοδηγούν και
  να τους δίνουν έμπνευση. Αυτό εδώ το σ
 ήμα,  ‘‘Fenia et les Zazoux’’, επιχειρεί να φ
 έρει πιο κοντά στο Eλληνικό κοινό μερι
 ούς από τους σπουδαίους Γάλλους jazz συ
 θέτες, τραγουδοποιούς, αλλά και ποιητ
 ς: από τον Borris Vian, την Barbara, τον Michel Legrand 
 και τον Brel, μέχρι τον Charles Gainsbourg και του
 ς Paris Combo . Όλους αυτούς που έζησαν και δ
 ημιούργησαν –κυρίως- στο Παρίσι, όπου 
 ο τρόπος ζωής και οι συναναστροφές, μέ
 ρι σήμερα, οδηγούν τους καλλιτέχνες σ
  ένα αποτέλεσμα τόσο διαφορετικό από 
 το Αμερικάνικο μοντέλο.\nΑυτή η ιδιαίτ
 ρη χημεία κάνει το γαλλικό ρεπερτόριο
  πρσγματικά ελκυστικό, πρωτόγνωρο και 
 σύγχρονο. Απόδειξη είναι η αγάπη που δ
 ίχνει ένα πολύ μεγάλο μέρος του Γαλλι
 ού κοινού σ’ αυτό το είδος μουσικής μ
 χρι σήμερα, αλλά και το ενδιαφέρον που
  έχει αρχίσει να δείχνει το Ελληνικό κ
 ινό τα τελευταία χρόνια για το ρεπερτ
 ριο της γαλλικής Zazzzz….\nΘ’ ακουστούν 
 κόμα και κάποια κομμάτια-σταθμοί από 
 ον Charles Mingus, τον Duke Ellington, τη Billy Holiday κ.α.
 ., για τους “πεινασμένους” της Αμερικ
 νικης σκηνής, γεφυρώνοντας έτσι την α
 όσταση ανάμεσα στο Παρίσι και τη Ν. Υό
 κη , μέσω Αφρικής , τη γενέτειρα του Blues
 , εκεί δηλαδή όπου αρχίζει όλη αυτή η ε
 πληκτική ιστορία!\n\n\n\nFor more information visit ht
 tps://blues.gr/events/fenia-et-les-zazoux
DTSTART;TZID=Europe/Athens:20111020T220000
DTEND;TZID=Europe/Athens:20111021T020000
CATEGORIES:live, jazz, blues
LOCATION:Bacaro
WEBSITE:http://bacaro.gr/where-are-we
URL:http://bacaro.gr/where-are-we
CONTACT:210-3211882
ORGANIZER:Bacaro
ATTACH;FMTTYPE="image/jpeg":http://storage.ning.com/topology/rest/1.0/
 file/get/2252956641?profile=original
ATTENDEE;ROLE=REQ-PARTICIPANT;PARTSTAT=ACCEPTED;RSVP=TRUE;CN="Music Ne
 twork by Michael Limnios":https://blues.gr/profile/MichalisLimnios
END:VEVENT
END:VCALENDAR
