BEGIN:VCALENDAR
PRODID:NingEventWidget-v1
VERSION:2.0
METHOD:PUBLISH
BEGIN:VTIMEZONE
TZID:Europe/Athens
X-LIC-LOCATION:Europe/Athens
BEGIN:DAYLIGHT
TZOFFSETFROM:+0200
TZOFFSETTO:+0300
TZNAME:EEST
DTSTART:19700329T030000
RRULE:FREQ=YEARLY;BYMONTH=3;BYDAY=-1SU
END:DAYLIGHT
BEGIN:STANDARD
TZOFFSETFROM:+0300
TZOFFSETTO:+0200
TZNAME:EET
DTSTART:19701025T040000
RRULE:FREQ=YEARLY;BYMONTH=10;BYDAY=-1SU
END:STANDARD
END:VTIMEZONE
BEGIN:VEVENT
UID:1982923:Event:16182
DTSTAMP:20260425T035008Z
SUMMARY:\"FIRE AND WATER\" at cafe bar \"ΠΑΛΙΑ ΒΙΒΛΙΟΘΗΚ
 Η\"
DESCRIPTION:Βραδιά μουσικής με ακουστικές ε
 κτελέσεις τραγουδιών αξέχαστων καλλι
 εχνών όπως οι Jimi Hendix, Eric Clapton, Stevie Ray Vaugha
 n, Rory Gallagher και πολλοί άλλοι, από τους Άγ
 γελο Καλόγρηα - τραγούδι, Σάββα Τάτσο & 
 Θόδωρο Μαυροκέφαλο - κιθάρες.\n\nFor more info
 rmation visit https://blues.gr/events/fire-and-water-at-cafe-bar
DTSTART;TZID=Europe/Athens:20090204T220000
DTEND;TZID=Europe/Athens:20090205T010000
CATEGORIES:concert
LOCATION:Cafe bar \"Παλιά Βιβλιοθήκη\"
WEBSITE:http://angelos.kalogrias@gmail.com
URL:http://angelos.kalogrias@gmail.com
CONTACT:2514003983
ORGANIZER:Cafe bar \"Παλιά Βιβλιοθήκη\"
ATTACH;FMTTYPE="image/jpeg":http://storage.ning.com/topology/rest/1.0/
 file/get/2252936757?profile=original
ATTENDEE;ROLE=REQ-PARTICIPANT;PARTSTAT=ACCEPTED;RSVP=TRUE;CN="Angelos 
 Kalogrias":https://blues.gr/profile/AngelosKalogrias
ATTENDEE;ROLE=REQ-PARTICIPANT;PARTSTAT=TENTATIVE;RSVP=TRUE;CN=TUBESCRE
 AMERS:https://blues.gr/profile/TUBESCREAMERS
END:VEVENT
END:VCALENDAR
