BEGIN:VCALENDAR
PRODID:NingEventWidget-v1
VERSION:2.0
METHOD:PUBLISH
BEGIN:VTIMEZONE
TZID:Europe/Athens
X-LIC-LOCATION:Europe/Athens
BEGIN:DAYLIGHT
TZOFFSETFROM:+0200
TZOFFSETTO:+0300
TZNAME:EEST
DTSTART:19700329T030000
RRULE:FREQ=YEARLY;BYMONTH=3;BYDAY=-1SU
END:DAYLIGHT
BEGIN:STANDARD
TZOFFSETFROM:+0300
TZOFFSETTO:+0200
TZNAME:EET
DTSTART:19701025T040000
RRULE:FREQ=YEARLY;BYMONTH=10;BYDAY=-1SU
END:STANDARD
END:VTIMEZONE
BEGIN:VEVENT
UID:1982923:Event:35079
DTSTAMP:20260424T150856Z
SUMMARY:Folk \"n\" Blues Workshop 2010
DESCRIPTION:Folk n Blues 2010.doc\n\nFor more information visit https:
 //blues.gr/events/folk-n-blues-workshop-2010
DTSTART;TZID=Europe/Athens:20100927T100000
DTEND;TZID=Europe/Athens:20101001T220000
CATEGORIES:guitar, workshop
LOCATION:Kardamili,Greece
WEBSITE:http://www.folknblues.eu
URL:http://www.folknblues.eu
CONTACT:
ORGANIZER;CN="Keith Ambridge":https://blues.gr/profile/KeithAmbridge
ATTACH;FMTTYPE="image/jpeg":http://storage.ning.com/topology/rest/1.0/
 file/get/2112281714?profile=original
ATTENDEE;ROLE=REQ-PARTICIPANT;PARTSTAT=ACCEPTED;RSVP=TRUE;CN="Keith Am
 bridge":https://blues.gr/profile/KeithAmbridge
END:VEVENT
END:VCALENDAR
