BEGIN:VCALENDAR
PRODID:NingEventWidget-v1
VERSION:2.0
METHOD:PUBLISH
BEGIN:VTIMEZONE
TZID:Europe/Athens
X-LIC-LOCATION:Europe/Athens
BEGIN:DAYLIGHT
TZOFFSETFROM:+0200
TZOFFSETTO:+0300
TZNAME:EEST
DTSTART:19700329T030000
RRULE:FREQ=YEARLY;BYMONTH=3;BYDAY=-1SU
END:DAYLIGHT
BEGIN:STANDARD
TZOFFSETFROM:+0300
TZOFFSETTO:+0200
TZNAME:EET
DTSTART:19701025T040000
RRULE:FREQ=YEARLY;BYMONTH=10;BYDAY=-1SU
END:STANDARD
END:VTIMEZONE
BEGIN:VEVENT
UID:1982923:Event:243992
DTSTAMP:20260425T134331Z
SUMMARY:For The Love Of The Blues
DESCRIPTION:\n\nFor more information visit https://blues.gr/events/for
 -the-love-of-the-blues
DTSTART;TZID=Europe/Athens:20160520T213000
DTEND;TZID=Europe/Athens:20160521T010000
CATEGORIES:ένα, βράδυ, αφιερωμένο, στα, "#μπλ
 υζ", όπως, τα, αντιλαμβάνονται, οι, έμπε
 ιροι, μπλουζίστες, της, εγχώριας, και, δ
 ιεθνούς, "σκηνής."
LOCATION:Open air Κινηματογράφος Τριανόν
WEBSITE:http://www.trianon.gr/v1/get-directions.html
URL:http://www.trianon.gr/v1/get-directions.html
CONTACT:+30 210 8215469
ORGANIZER;CN="Dimitris Ioannou":https://blues.gr/profile/DimitrisIoann
 ou
ATTACH;FMTTYPE="image/jpeg":http://storage.ning.com/topology/rest/1.0/
 file/get/2253047279?profile=original
ATTENDEE;ROLE=REQ-PARTICIPANT;PARTSTAT=ACCEPTED;RSVP=TRUE;CN="Dimitris
  Ioannou":https://blues.gr/profile/DimitrisIoannou
END:VEVENT
END:VCALENDAR
