BEGIN:VCALENDAR
PRODID:NingEventWidget-v1
VERSION:2.0
METHOD:PUBLISH
BEGIN:VTIMEZONE
TZID:Europe/Athens
X-LIC-LOCATION:Europe/Athens
BEGIN:DAYLIGHT
TZOFFSETFROM:+0200
TZOFFSETTO:+0300
TZNAME:EEST
DTSTART:19700329T030000
RRULE:FREQ=YEARLY;BYMONTH=3;BYDAY=-1SU
END:DAYLIGHT
BEGIN:STANDARD
TZOFFSETFROM:+0300
TZOFFSETTO:+0200
TZNAME:EET
DTSTART:19701025T040000
RRULE:FREQ=YEARLY;BYMONTH=10;BYDAY=-1SU
END:STANDARD
END:VTIMEZONE
BEGIN:VEVENT
UID:1982923:Event:488550
DTSTAMP:20260419T225627Z
SUMMARY:FRANK GAMBALE ALL STAR BAND
DESCRIPTION:Η ΝΕΑ ALL-STAR ΜΠΑΝΤΑ ΤΟΥ ΒΡΑΒΕΥΜΕΝ
 Υ ΜΕ GRAMMY ΚΙΘΑΡΙΣΤΑ FRANK GAMBALE, EΡXETAI ΣΤΗΝ Ε
 ΛΛΑΔΑ ΚΑΙ ΣΤΟ ΑΘΗΝΑ΄ Live ΓΙΑ 2 ΜΟΝΑΔΙΚΕΣ
  ΣΥΝΑΥΛΙΕΣ  Ο Frank Gambale, είναι, για όσους 
 εν τον γνωρίζουν, ο επί 36 χρόνια κιθαρ
 στας του θρύλου της Jazz Chick Corea. Έχει επί
 σης λαμπρή σόλο καριέρα ως τραγουδοπο
 ός/συνθέτης/συγγραφέας και έχει κυκλο
 φορήσει πάνω από 20 σόλο άλμπουμ, 3 bestselle
 r εκπαιδευτικά βίντεο για κιθάρα και π
 λλά βιβλία. Σε νεαρή ηλικία, επηρεασμέ
 νος και εμπνευσμένος από τους αυτοσχε
 ιασμούς του Corea και του Brecker, άρχισε να 
 εξελίσσει την Sweep Picking Technique. Μια τεχνικ
 ή την οποία ανακάλυψε ο ίδιος και που π
 λέον έχει μείνει στην ιστορία της κιθά
 ρας σαν το προσωπικό στυλ του Frank Gambale, 
 την οποία είναι αδιαμφισβήτητα Master. Η 
 σύνθεση του γκρουπ με το οποίο θα παίξ
 ι σ’ αυτές τις δύο μοναδικές παραστάσ
 εις είναι πραγματικά εξαιρετική. Ο μπα
 σίστας Hadrien Feraud, που θεωρείται ένας από
  τους καλύτερους μπασίστες στον κόσμο 
 αυτή τη στιγμή. Προερχόμενος από μουσι
 κή οικογένεια, μπήκε στο χώρο της μουσ
 κής από πολύ μικρός παίζοντας κιθάρα 
 αι drums. Με το μπάσο παθιάστηκε, όταν σε 
 ηλικία 12 ετών άκουσε για πρώτη φορά το
  Jaco Pastorius. Τώρα πλέον θεωρείται από του
 ς κορυφαίους μπασίστες στον κόσμο. Έχε
 ι συνεργαστεί με John McLaughlin, Chick Corea, Billy Cob
 ham, Lee Ritenour, Bireli Lagrene κλπ. Στα πλήκτρα ο Jer
 ry Leonide, o νέος εξαιρετικός και πολλά υπο
 σχόμενος κιμπορντίστας. Στην καρδιά τ
 υ εκπληκτικού line up, βρίσκεται ο δυναμι
 κός drummer, Gergo Borlai. Έχει συμμετάσχει σε π
 νω από 300 cds, έχει γυρίσει την Ευρώπη, Α
 ερική, Ασία, Νότιο Αμερική, Κορέα κάνο
 τας σεμινάρια, έχει κερδίσει το Golden Drum
 stick Prize και είναι επίσης γνωστός για τα 
 solos του που σου κόβουν την ανάσα.\r\n\n\nFor 
 more information visit https://blues.gr/events/frank-gambale-all-star-
 band
DTSTART;TZID=Europe/Athens:20230303T000000
DTEND;TZID=Europe/Athens:20230304T235900
CATEGORIES:jazz
LOCATION:Αθηνά Live
WEBSITE:
URL:
CONTACT:210-4813605
ORGANIZER:ΑΘΗΝΑ΄ Live
ATTACH;FMTTYPE="image/jpeg":https://storage.ning.com/topology/rest/1.0
 /file/get/10951497278?profile=original
ATTENDEE;ROLE=REQ-PARTICIPANT;PARTSTAT=ACCEPTED;RSVP=TRUE;CN="Music Ne
 twork by Michael Limnios":https://blues.gr/profile/MichalisLimnios
END:VEVENT
END:VCALENDAR
