BEGIN:VCALENDAR
PRODID:NingEventWidget-v1
VERSION:2.0
METHOD:PUBLISH
BEGIN:VTIMEZONE
TZID:Europe/Athens
X-LIC-LOCATION:Europe/Athens
BEGIN:DAYLIGHT
TZOFFSETFROM:+0200
TZOFFSETTO:+0300
TZNAME:EEST
DTSTART:19700329T030000
RRULE:FREQ=YEARLY;BYMONTH=3;BYDAY=-1SU
END:DAYLIGHT
BEGIN:STANDARD
TZOFFSETFROM:+0300
TZOFFSETTO:+0200
TZNAME:EET
DTSTART:19701025T040000
RRULE:FREQ=YEARLY;BYMONTH=10;BYDAY=-1SU
END:STANDARD
END:VTIMEZONE
BEGIN:VEVENT
UID:1982923:Event:134040
DTSTAMP:20260419T193813Z
SUMMARY:FREEManJam and Daddy's Work Blues Band Live @ Stage 25
DESCRIPTION:\nFREEManJam and Daddy's Work Blues Band Live @ Stage 25  
 Double Live........ Blues-Rock συνάντηση με άφθονο τ
 ζαμάρισμα!!!!!!!!  ... FreeManJam Oι FreeManJam δημιου
 ργήθηκαν στα τέλη του 2009, μετά από ένα j
 am (εξού κ το όνομα!)που έπαιξαν οι Μάνος
  Καρζής(κιθάρα), Δημήτρης Κολλίγρης(μπ
 σο) και Γιάννης Δημουλάς(drums). Μέσα από 
 Blues και Rock μέχρι Latin και Reggae μονοπάτια, 
 ποφάσισαν να \"δημοσιοποιήσουν\" αυτή 
 η χημεία που είχαν σαν μουσικοί.  Καλο
 ν φίλους και μη μαζί τους στη σκηνή γι
  να παίξουν σε γνωστές ή και όχι φόρμε
 , με κυρίαρχο στοιχείο την ενέργεια, τ
 ν αυτοσχεδιασμό και το χιούμορ!  Daddy’s 
 Work Blues Band Οι Daddy's Work Blues Band είναι μια blues- 
 rock μπάντα με έδρα τα Δυτικά Προάστια τ
 ς Αθήνας. Το αρχικό της όνομα ήταν Bluesbu
 rger, με αρκετές εμφανίσεις σε μουσικές 
 κηνές της Αθήνας αλλά και της επαρχία
 . Πλέον τώρα ως Daddy's Work Blues Band συνεχίζου
 ν τη διαδρομή τους σε μουσικά στέκια. Σ
 υνήθως με τη μουσική τους το κοινό ταξ
 δεύει σε διάφορα μέρη, από το Chicago στο T
 exas και από την Αμερική στην Αγγλία, με 
 ις νότες που παράγουν παίζοντας μέσα 
 πό την ψυχή τους. Άνοιξαν τις συναυλίε
 ς γνωστών μουσικών συγκροτημάτων όπως
  οι Δρ Feellgood, Louisiana Red, BluesWire, Ansley Lister, .....  
 ΕΠΙΡΡΟΕΣ ΚΑΙ ΜΟΥΣΙΚΟ ΥΦΟΣ Paul Butterfield, Budd
 y Guy, Junior Wells, Stevie Ray Vaughan, Gary Moore, Canned Heat, Eric
  Clapton, Allman Brothers Band, Jef Beck......  Θανάσης Γκι
 κας...........Κιθάρα - τραγούδι Δημήτρης Δ
 υλγερίδης....Κιθάρα - τραγούδι Στάθης Α
 νέστης............Μπάσο Θέμης Πολύζος..........
 ...Τύμπανα Γιάννης Παχύδης...........Φυσαρμ
 όνικα\n\nFor more information visit https://blues.gr/events/freem
 anjam-and-daddy-s-work-blues-band-live-stage-25
DTSTART;TZID=Europe/Athens:20120210T230000
DTEND;TZID=Europe/Athens:20120211T030000
CATEGORIES:live, blues, -, rock, jam
LOCATION:Stage 25
WEBSITE:
URL:
CONTACT:2105714785
ORGANIZER;CN="Giannis Pachidis":https://blues.gr/profile/ioannis
ATTACH;FMTTYPE="image/jpeg":http://storage.ning.com/topology/rest/1.0/
 file/get/2252972098?profile=original
ATTENDEE;ROLE=REQ-PARTICIPANT;PARTSTAT=ACCEPTED;RSVP=TRUE;CN="Giannis 
 Pachidis":https://blues.gr/profile/ioannis
ATTENDEE;ROLE=REQ-PARTICIPANT;PARTSTAT=ACCEPTED;RSVP=TRUE;CN="dimitrio
 s doulgeridis":https://blues.gr/profile/dimitriosdoulgeridis
END:VEVENT
END:VCALENDAR
