BEGIN:VCALENDAR
PRODID:NingEventWidget-v1
VERSION:2.0
METHOD:PUBLISH
BEGIN:VTIMEZONE
TZID:Europe/Athens
X-LIC-LOCATION:Europe/Athens
BEGIN:DAYLIGHT
TZOFFSETFROM:+0200
TZOFFSETTO:+0300
TZNAME:EEST
DTSTART:19700329T030000
RRULE:FREQ=YEARLY;BYMONTH=3;BYDAY=-1SU
END:DAYLIGHT
BEGIN:STANDARD
TZOFFSETFROM:+0300
TZOFFSETTO:+0200
TZNAME:EET
DTSTART:19701025T040000
RRULE:FREQ=YEARLY;BYMONTH=10;BYDAY=-1SU
END:STANDARD
END:VTIMEZONE
BEGIN:VEVENT
UID:1982923:Event:140263
DTSTAMP:20260423T132553Z
SUMMARY:FREEMaNJaΜ live at Granazi Bar
DESCRIPTION:\n\nFor more information visit https://blues.gr/events/fre
 emanjam-live-at-granazi-bar
DTSTART;TZID=Europe/Athens:20120331T223000
DTEND;TZID=Europe/Athens:20120401T013000
CATEGORIES:live, blues, -, rock
LOCATION:Granazi Bar
WEBSITE:http://granazi.blogspot.com/
URL:http://granazi.blogspot.com/
CONTACT:
ORGANIZER;CN="Giannis Pachidis":https://blues.gr/profile/ioannis
ATTACH;FMTTYPE="image/jpeg":http://storage.ning.com/topology/rest/1.0/
 file/get/2252976509?profile=original
ATTENDEE;ROLE=REQ-PARTICIPANT;PARTSTAT=ACCEPTED;RSVP=TRUE;CN="Giannis 
 Pachidis":https://blues.gr/profile/ioannis
END:VEVENT
END:VCALENDAR
