BEGIN:VCALENDAR
PRODID:NingEventWidget-v1
VERSION:2.0
METHOD:PUBLISH
BEGIN:VTIMEZONE
TZID:Europe/Athens
X-LIC-LOCATION:Europe/Athens
BEGIN:DAYLIGHT
TZOFFSETFROM:+0200
TZOFFSETTO:+0300
TZNAME:EEST
DTSTART:19700329T030000
RRULE:FREQ=YEARLY;BYMONTH=3;BYDAY=-1SU
END:DAYLIGHT
BEGIN:STANDARD
TZOFFSETFROM:+0300
TZOFFSETTO:+0200
TZNAME:EET
DTSTART:19701025T040000
RRULE:FREQ=YEARLY;BYMONTH=10;BYDAY=-1SU
END:STANDARD
END:VTIMEZONE
BEGIN:VEVENT
UID:1982923:Event:110730
DTSTAMP:20260422T113324Z
SUMMARY:Gadjo Dilo Swing Quintet
DESCRIPTION:To Σάββατο 24 Σεπτεμβρίου στις 10 μ
 .μ., οι Gadjo Dilo Swing Quintet παρουσιάζουν την ma
 nouche gipsy swing μουσική παράδοση, μέσα από μ
 οναδικές εκτελέσεις κομματιών του θρυ
 λικού κιθαρίστα Django Reinhardt. Μέσα από ιλι
 γγιώδεις αυτοσχεδιασμούς και ονειρικ
  ηχητικά τοπία οι Cadjo Dilo μας μεταφέρου
  τη μαγεία και τη μοναδική ποιητικότη
 α της τσιγγάνικης jazz παράδοσης.\nΟι Gadjo
  Dilo Swing Quintet είναι:\n\n \nΚώστας Μητρόπουλ
 ος (κιθάρα)Σωτήρης Πομόνης (κιθάρα)Ηλί
 ς Τσάγκαρης (κιθάρα)Νίκος Τατού (κοντρ
 αμπάσο)Σέργιος Χρυσοβιτσάνος (βιολί)\n\
 nFor more information visit https://blues.gr/events/gadjo-dilo-swing-q
 uintet
DTSTART;TZID=Europe/Athens:20110924T220000
DTEND;TZID=Europe/Athens:20110925T010000
CATEGORIES:live
LOCATION:FLORAL
WEBSITE:http://www.facebook.com/group.php?gid=128167143898404
URL:http://www.facebook.com/group.php?gid=128167143898404
CONTACT:210 3800070
ORGANIZER:Floral
ATTACH;FMTTYPE="image/jpeg":http://storage.ning.com/topology/rest/1.0/
 file/get/2252955067?profile=original
ATTENDEE;ROLE=REQ-PARTICIPANT;PARTSTAT=ACCEPTED;RSVP=TRUE;CN="Music Ne
 twork by Michael Limnios":https://blues.gr/profile/MichalisLimnios
END:VEVENT
END:VCALENDAR
