BEGIN:VCALENDAR
PRODID:NingEventWidget-v1
VERSION:2.0
METHOD:PUBLISH
BEGIN:VTIMEZONE
TZID:Europe/Athens
X-LIC-LOCATION:Europe/Athens
BEGIN:DAYLIGHT
TZOFFSETFROM:+0200
TZOFFSETTO:+0300
TZNAME:EEST
DTSTART:19700329T030000
RRULE:FREQ=YEARLY;BYMONTH=3;BYDAY=-1SU
END:DAYLIGHT
BEGIN:STANDARD
TZOFFSETFROM:+0300
TZOFFSETTO:+0200
TZNAME:EET
DTSTART:19701025T040000
RRULE:FREQ=YEARLY;BYMONTH=10;BYDAY=-1SU
END:STANDARD
END:VTIMEZONE
BEGIN:VEVENT
UID:1982923:Event:127787
DTSTAMP:20260424T145222Z
SUMMARY:GEORGE AND THE DUKES 10 DEC.LIVE @ IGUANA CAFE
DESCRIPTION:Rocking RAFINA with blues.\nΓ. Χατζόπουλος  
 κιθάρα φωνή\nΔ. Μεταξάς           μπάσσο\
 nΓ. Χριστόπουλος  τύμπανα\n\nFor more information
  visit https://blues.gr/events/george-and-the-dukes-10-dec-live-iguana
 -cafe
DTSTART;TZID=Europe/Athens:20111210T230000
DTEND;TZID=Europe/Athens:20111211T020000
CATEGORIES:live
LOCATION:Εθνικής αντιστάσεως και Προποντί
 δος 1 Ραφήνα
WEBSITE:
URL:
CONTACT:
ORGANIZER;CN="Talking blues":https://blues.gr/profile/Ninna
ATTACH;FMTTYPE="image/jpeg":http://storage.ning.com/topology/rest/1.0/
 file/get/2252963051?profile=original
ATTENDEE;ROLE=REQ-PARTICIPANT;PARTSTAT=ACCEPTED;RSVP=TRUE;CN="Talking 
 blues":https://blues.gr/profile/Ninna
ATTENDEE;ROLE=REQ-PARTICIPANT;PARTSTAT=TENTATIVE;RSVP=TRUE;CN="tony do
 llaro":https://blues.gr/profile/tonydollaro
END:VEVENT
END:VCALENDAR
