BEGIN:VCALENDAR
PRODID:NingEventWidget-v1
VERSION:2.0
METHOD:PUBLISH
BEGIN:VTIMEZONE
TZID:Europe/Athens
X-LIC-LOCATION:Europe/Athens
BEGIN:DAYLIGHT
TZOFFSETFROM:+0200
TZOFFSETTO:+0300
TZNAME:EEST
DTSTART:19700329T030000
RRULE:FREQ=YEARLY;BYMONTH=3;BYDAY=-1SU
END:DAYLIGHT
BEGIN:STANDARD
TZOFFSETFROM:+0300
TZOFFSETTO:+0200
TZNAME:EET
DTSTART:19701025T040000
RRULE:FREQ=YEARLY;BYMONTH=10;BYDAY=-1SU
END:STANDARD
END:VTIMEZONE
BEGIN:VEVENT
UID:1982923:Event:94626
DTSTAMP:20260421T201832Z
SUMMARY:GEORGE AND THE DUKES
DESCRIPTION:Ο Γιώργος Χατζόπουλος με το Δημ
 τρη Μεταξά, το Γιάννη Χριστόπουλο και 
 εκλεκτούς φίλους θα μπλουζάρουν το ρο
  και θα ροκάρουν το μπλούζ, όπως προτι
 άτε εσείς, στο πιο ζεστό στέκι των Εξα
 χείων. \n.Είσοδος 6 ευρώ\n\nFor more information vis
 it https://blues.gr/events/george-and-the-dukes-195
DTSTART;TZID=Europe/Athens:20110319T233000
DTEND;TZID=Europe/Athens:20110320T023000
CATEGORIES:"blues/rock"
LOCATION:IN VIVO
WEBSITE:
URL:
CONTACT:
ORGANIZER;CN="Talking blues":https://blues.gr/profile/Ninna
ATTACH;FMTTYPE="image/jpeg":http://storage.ning.com/topology/rest/1.0/
 file/get/2073761225?profile=original
ATTENDEE;ROLE=REQ-PARTICIPANT;PARTSTAT=ACCEPTED;RSVP=TRUE;CN="Talking 
 blues":https://blues.gr/profile/Ninna
END:VEVENT
END:VCALENDAR
