BEGIN:VCALENDAR
PRODID:NingEventWidget-v1
VERSION:2.0
METHOD:PUBLISH
BEGIN:VTIMEZONE
TZID:Europe/Athens
X-LIC-LOCATION:Europe/Athens
BEGIN:DAYLIGHT
TZOFFSETFROM:+0200
TZOFFSETTO:+0300
TZNAME:EEST
DTSTART:19700329T030000
RRULE:FREQ=YEARLY;BYMONTH=3;BYDAY=-1SU
END:DAYLIGHT
BEGIN:STANDARD
TZOFFSETFROM:+0300
TZOFFSETTO:+0200
TZNAME:EET
DTSTART:19701025T040000
RRULE:FREQ=YEARLY;BYMONTH=10;BYDAY=-1SU
END:STANDARD
END:VTIMEZONE
BEGIN:VEVENT
UID:1982923:Event:145391
DTSTAMP:20260425T210035Z
SUMMARY:GEORGE AND THE DUKES @ BAT CITY
DESCRIPTION:\nΈνα δυναμικό ηλεκτρικό blues rock tr
 io της σύγχρονης Αθηναικής σκηνής που β
 ασίζεται στο συναίσθημα και τη δύναμη 
 του αληθινού blues. Η μπάντα ξεκίνησε τη 
 ιαδρομή της στα μέσα της δεκαετίας το
  '90, σημειώνοντας μεγάλη επιτυχία σε ό
 ες τις εμφανίσεις της, καθώς γινόταν ε
 ύκολα αντιληπτές οι ατομικές ικανότητ
 ες των μελών, ο αυθεντικός ήχος και τα 
 αιριαστά vocals. Τώρα το real αυτό σχήμα απ
 δίδει αυθεντικά, επιτυχίες της ηλεκτρ
 . Blues σκηνής του chicago καθώς και της blues roc
 k, με σύντομες διαδρομές στο χώρο της jaz
 z funk. Είναι δε φανερές οι επιρροές των bb
  king, Albert Collins, Alb. King, Jimi Hendrix, G. Benson, Ronnie Earl
 , Johnny Winter. Στα μέλη του σχήματος, στη πο
 υετή αυτή πορεία, συγκαταλέγονται και
  μουσικοί που έχουν στο ενεργητικό του
 ς συνεργασίες με σημαντικούς καλλιτέχ
 νες της σύγχρονης blues,soul,jazz, και funk Ελλη
 νικής και διεθνούς σκηνής. Είναι ενδει
 κτικό οτι την εποχή που ο Γιώργος ζούσ
  στην Αγγλία, συχνά μοιραζόταν μουσικ
 ς εμπειρίες και ακούσματα της blues, dub & f
 unk μουσικής με φίλους μουσικούς της το
 ικής black community.  Αν σε αυτά προσθέσουμε
  την επιβλητικότητα των χαμηλών συχνο
 ήτων του μπάσου, την δεξιοτεχνία και δ
 υναμικότητα του ντράμερ, την bluesy φωνή 
 ου τραγουδιστή, τα δυνατά σόλα και την
  επιμονή της μπάντας στο blues with a feeling εύ
 κολα γίνεται αντιληπτό το μουσικό απο
 έλεσμα. Όπως άλλωστε λένε και οι φίλοι
  του σχήματος ,\"Κάθε μουσικό κομμάτι,ε
 ναι σαν να το ακούς για πρώτη φορά\"\nΓι
 ώργος Χατζόπουλος ηλεκτρική κιθάρα\nΔ.
  Μεταξάς  μπάσο\nΓ. Χριστόπουλος τύμπα
 α\n\nFor more information visit https://blues.gr/events/george-and-t
 he-dukes-bat-city
DTSTART;TZID=Europe/Athens:20120518T230000
DTEND;TZID=Europe/Athens:20120519T020000
CATEGORIES:live, "@", bat, city
LOCATION:Λ. Αλεξάνδρας 11  Αθήνα
WEBSITE:
URL:
CONTACT:
ORGANIZER;CN="Talking blues":https://blues.gr/profile/Ninna
ATTACH;FMTTYPE="image/jpeg":http://storage.ning.com/topology/rest/1.0/
 file/get/2252980661?profile=original
ATTENDEE;ROLE=REQ-PARTICIPANT;PARTSTAT=ACCEPTED;RSVP=TRUE;CN="Talking 
 blues":https://blues.gr/profile/Ninna
END:VEVENT
END:VCALENDAR
