BEGIN:VCALENDAR
PRODID:NingEventWidget-v1
VERSION:2.0
METHOD:PUBLISH
BEGIN:VTIMEZONE
TZID:Europe/Athens
X-LIC-LOCATION:Europe/Athens
BEGIN:DAYLIGHT
TZOFFSETFROM:+0200
TZOFFSETTO:+0300
TZNAME:EEST
DTSTART:19700329T030000
RRULE:FREQ=YEARLY;BYMONTH=3;BYDAY=-1SU
END:DAYLIGHT
BEGIN:STANDARD
TZOFFSETFROM:+0300
TZOFFSETTO:+0200
TZNAME:EET
DTSTART:19701025T040000
RRULE:FREQ=YEARLY;BYMONTH=10;BYDAY=-1SU
END:STANDARD
END:VTIMEZONE
BEGIN:VEVENT
UID:1982923:Event:94327
DTSTAMP:20260421T201910Z
SUMMARY:GEORGE AND THE DUKES with MICHAEL DOTSON
DESCRIPTION:  GEORGE AND THE DUKES with MICHAEL DOTSON   ΠΑΡΑΣΚ
 ΥΗ 18 ΜΑΡΤΙΟΥ live @  LAZY CLUB  Λεωφ. Πεντέλης
  1 Βριλήσσια \n \n \n \nO Michael Dotson και ο Γιώ
 γος Χατζόπουλος, δυο κιθάρες, δυο φωνέ
 ς, μαζί με τους Dukes, ενώνουν τη δύναμη κ
 ι την αγάπη τους για το Blues σε μια μονα
 ική συναυλία στο LAZY CLUB. Το  Blues with a feeling
  αποκτά μια άλλη αίσθηση, με την παρουσ
 ία του μεγάλου blues κιθαρίστα από το Chicag
 o, MICHAEL DOTSON. .Michael Dotson κιθάρα φωνή Γιώργο
  Χατζόπουλος κιθάρα φωνήΔημήτρης Μετ
 ξάς μπάσο Γιάννης Χριστόπουλος τύμπα
 α\n \nwww.myspace.com/georgeanddukes\n\nFor more information visit 
 https://blues.gr/events/george-and-the-dukes-with-1
DTSTART;TZID=Europe/Athens:20110318T233000
DTEND;TZID=Europe/Athens:20110319T020000
CATEGORIES:συναυλία
LOCATION:LAZY
WEBSITE:
URL:
CONTACT:
ORGANIZER:
ATTACH;FMTTYPE="image/jpeg":http://storage.ning.com/topology/rest/1.0/
 file/get/2252949494?profile=original
ATTENDEE;ROLE=REQ-PARTICIPANT;PARTSTAT=ACCEPTED;RSVP=TRUE;CN="Giannis 
 Pachidis":https://blues.gr/profile/ioannis
ATTENDEE;ROLE=REQ-PARTICIPANT;PARTSTAT=ACCEPTED;RSVP=TRUE;CN="Talking 
 blues":https://blues.gr/profile/Ninna
END:VEVENT
END:VCALENDAR
