BEGIN:VCALENDAR
PRODID:NingEventWidget-v1
VERSION:2.0
METHOD:PUBLISH
BEGIN:VTIMEZONE
TZID:Europe/Athens
X-LIC-LOCATION:Europe/Athens
BEGIN:DAYLIGHT
TZOFFSETFROM:+0200
TZOFFSETTO:+0300
TZNAME:EEST
DTSTART:19700329T030000
RRULE:FREQ=YEARLY;BYMONTH=3;BYDAY=-1SU
END:DAYLIGHT
BEGIN:STANDARD
TZOFFSETFROM:+0300
TZOFFSETTO:+0200
TZNAME:EET
DTSTART:19701025T040000
RRULE:FREQ=YEARLY;BYMONTH=10;BYDAY=-1SU
END:STANDARD
END:VTIMEZONE
BEGIN:VEVENT
UID:1982923:Event:315164
DTSTAMP:20260422T074846Z
SUMMARY:Billy Harper Quintet
DESCRIPTION:  Ο τενόρος σαξοφωνίστας θρύλος
  Billy Harper ανήκει στην πρώτη και ξεχωριστ
 ή μετά – Coltrane γενιά μουσικών που όμως 
 έκτισαν» πάνω στην μουσική κληρονομι
  του jazz μύθου και την προχώρησαν σε δη
 ιουργικούς δικούς τους δρόμους, αντί 
 α την αντιγράψουν. Οι εμφανίσεις του Ha
 rper στο Half Note είναι ουσιαστικά κι οι πρώ
 τες εμφανίσεις του στην Ελλάδα ως leader, 
 άρα μια εξαιρετική ευκαιρία να γνωρίσ
 υμε από κοντά ένα jazz θρύλο που ισορροπ
 εί εξαιρετικά ανάμεσα στο hard bop και την
  avant garde και συμμετείχε σε αρκετές από τ
 ις σπουδαιότερες ηχογραφήσεις της jazz 
 στορίας! Το εκπαιδευτικό του έργο επί
 ης είναι μεγάλο και διαρκές. Σήμερα, ο 
 76χρονος πολυβραβευμένος θρύλος, δοσμέ
 νος και αφοσιωμένος με κάθε σπιθαμή το
 υ σώματός του στη μουσική, εξακολουθεί
  να μαγεύει το κοινό του. Στις πέντε πα
 αστάσεις του στην Αθήνα από 15-19 Νοεμβρ
 ίου θα τον συνοδεύουν άλλο ένα θρυλικό
  μέλος και leader των Cookers, ο τρομπετίστας 
 David Weiss κι ένα εξαιρετικό rhythm section, προε
 άρχοντος του υπέροχου πιανίστα Danny Griss
 ett. Θα ανακαλύψουμε το πόσο δίκιο είχε 
  Kenny Dorham το 66’, όταν επέμενε να συστήνε
 ι τον Harper στην Νέα Υόρκη σε πολλούς, να 
 τσεκάρουν το αυθεντικό ταλέντο αυτού 
 ου Τεξανού γίγαντα!\r\n\r\n\n\nFor more information v
 isit https://blues.gr/events/george-colligan-trio-feat-buster-williams
 -lenny-white
DTSTART;TZID=Europe/Athens:20191115T000000
DTEND;TZID=Europe/Athens:20191118T235900
CATEGORIES:jazz
LOCATION:Half Note Jazz Club
WEBSITE:
URL:
CONTACT:210 9213310
ORGANIZER:Half Note Jazz Club
ATTACH;FMTTYPE="image/jpeg":https://storage.ning.com/topology/rest/1.0
 /file/get/3671115773?profile=original
ATTENDEE;ROLE=REQ-PARTICIPANT;PARTSTAT=ACCEPTED;RSVP=TRUE;CN="Music Ne
 twork by Michael Limnios":https://blues.gr/profile/MichalisLimnios
END:VEVENT
END:VCALENDAR
